Workbook

Sheet Bilan - Standardisé
A2: Gévelot SA (ALGEV FP) - Standardisé
A4: En millions de EUR sauf Par action | C4: FY 2010 | D4: FY 2011 | E4: FY 2012 | F4: FY 2013 | G4: FY 2014 | H4: FY 2015 | I4: FY 2016 | J4: FY 2017 | K4: FY 2018 | L4: FY 2019
A5: 12 mois se terminant | C5: 12/31/2010 | D5: 12/31/2011 | E5: 12/31/2012 | F5: 12/31/2013 | G5: 12/31/2014 | H5: 12/31/2015 | I5: 12/31/2016 | J5: 12/31/2017 | K5: 12/31/2018 | L5: 12/31/2019
A6: Actif total
A7: + Cash et équivalents et investissement court terme | B7: C&CE_AND_STI_DETAILED | C7: =_xll.BDH("ALGEV FP Equity","C&CE_AND_STI_DETAILED","FY 2010","FY 2010","Currency=EUR","Period=FY","BEST_FPERIOD_OVERRIDE=FY","FILING_STATUS=MR","SCALING_FORMAT=MLN","Sort=A","Dates=H","DateFormat=P","Fill=—","Direction=H","UseDPDF=Y") -> 36.496 | D7: =_xll.BDH("ALGEV FP Equity","C&CE_AND_STI_DETAILED","FY 2011","FY 2011","Currency=EUR","Period=FY","BEST_FPERIOD_OVERRIDE=FY","FILING_STATUS=MR","SCALING_FORMAT=MLN","Sort=A","Dates=H","DateFormat=P","Fill=—","Direction=H","UseDPDF=Y") -> 22.285 | E7: =_xll.BDH("ALGEV FP Equity","C&CE_AND_STI_DETAILED","FY 2012","FY 2012","Currency=EUR","Period=FY","BEST_FPERIOD_OVERRIDE=FY","FILING_STATUS=MR","SCALING_FORMAT=MLN","Sort=A","Dates=H","DateFormat=P","Fill=—","Direction=H","UseDPDF=Y") -> 29.822 | F7: =_xll.BDH("ALGEV FP Equity","C&CE_AND_STI_DETAILED","FY 2013","FY 2013","Currency=EUR","Period=FY","BEST_FPERIOD_OVERRIDE=FY","FILING_STATUS=MR","SCALING_FORMAT=MLN","Sort=A","Dates=H","DateFormat=P","Fill=—","Direction=H","UseDPDF=Y") -> 47.87 | G7: =_xll.BDH("ALGEV FP Equity","C&CE_AND_STI_DETAILED","FY 2014","FY 2014","Currency=EUR","Period=FY","BEST_FPERIOD_OVERRIDE=FY","FILING_STATUS=MR","SCALING_FORMAT=MLN","Sort=A","Dates=H","DateFormat=P","Fill=—","Direction=H","UseDPDF=Y") -> 144.204 | H7: =_xll.BDH("ALGEV FP Equity","C&CE_AND_STI_DETAILED","FY 2015","FY 2015","Currency=EUR","Period=FY","BEST_FPERIOD_OVERRIDE=FY","FILING_STATUS=MR","SCALING_FORMAT=MLN","Sort=A","Dates=H","DateFormat=P","Fill=—","Direction=H","UseDPDF=Y") -> 104.604 | I7: =_xll.BDH("ALGEV FP Equity","C&CE_AND_STI_DETAILED","FY 2016","FY 2016","Currency=EUR","Period=FY","BEST_FPERIOD_OVERRIDE=FY","FILING_STATUS=MR","SCALING_FORMAT=MLN","Sort=A","Dates=H","DateFormat=P","Fill=—","Direction=H","UseDPDF=Y") -> 106.992 | J7: =_xll.BDH("ALGEV FP Equity","C&CE_AND_STI_DETAILED","FY 2017","FY 2017","Currency=EUR","Period=FY","BEST_FPERIOD_OVERRIDE=FY","FILING_STATUS=MR","SCALING_FORMAT=MLN","Sort=A","Dates=H","DateFormat=P","Fill=—","Direction=H","UseDPDF=Y") -> 107.112 | K7: =_xll.BDH("ALGEV FP Equity","C&CE_AND_STI_DETAILED","FY 2018","FY 2018","Currency=EUR","Period=FY","BEST_FPERIOD_OVERRIDE=FY","FILING_STATUS=MR","SCALING_FORMAT=MLN","Sort=A","Dates=H","DateFormat=P","Fill=—","Direction=H","UseDPDF=Y") -> 174.501 | L7: =_xll.BDH("ALGEV FP Equity","C&CE_AND_STI_DETAILED","FY 2019","FY 2019","Currency=EUR","Period=FY","BEST_FPERIOD_OVERRIDE=FY","FILING_STATUS=MR","SCALING_FORMAT=MLN","Sort=A","Dates=H","DateFormat=P","Fill=—","Direction=H","UseDPDF=Y") -> 160.726
A8: + Cash et équivalents | B8: BS_CASH_NEAR_CASH_ITEM | C8: =_xll.BDH("ALGEV FP Equity","BS_CASH_NEAR_CASH_ITEM","FY 2010","FY 2010","Currency=EUR","Period=FY","BEST_FPERIOD_OVERRIDE=FY","FILING_STATUS=MR","SCALING_FORMAT=MLN","Sort=A","Dates=H","DateFormat=P","Fill=—","Direction=H","UseDPDF=Y") -> 21.968 | D8: =_xll.BDH("ALGEV FP Equity","BS_CASH_NEAR_CASH_ITEM","FY 2011","FY 2011","Currency=EUR","Period=FY","BEST_FPERIOD_OVERRIDE=FY","FILING_STATUS=MR","SCALING_FORMAT=MLN","Sort=A","Dates=H","DateFormat=P","Fill=—","Direction=H","UseDPDF=Y") -> 19.284 | E8: =_xll.BDH("ALGEV FP Equity","BS_CASH_NEAR_CASH_ITEM","FY 2012","FY 2012","Currency=EUR","Period=FY","BEST_FPERIOD_OVERRIDE=FY","FILING_STATUS=MR","SCALING_FORMAT=MLN","Sort=A","Dates=H","DateFormat=P","Fill=—","Direction=H","UseDPDF=Y") -> 14.062 | F8: =_xll.BDH("ALGEV FP Equity","BS_CASH_NEAR_CASH_ITEM","FY 2013","FY 2013","Currency=EUR","Period=FY","BEST_FPERIOD_OVERRIDE=FY","FILING_STATUS=MR","SCALING_FORMAT=MLN","Sort=A","Dates=H","DateFormat=P","Fill=—","Direction=H","UseDPDF=Y") -> 39.722 | G8: =_xll.BDH("ALGEV FP Equity","BS_CASH_NEAR_CASH_ITEM","FY 2014","FY 2014","Currency=EUR","Period=FY","BEST_FPERIOD_OVERRIDE=FY","FILING_STATUS=MR","SCALING_FORMAT=MLN","Sort=A","Dates=H","DateFormat=P","Fill=—","Direction=H","UseDPDF=Y") -> 135.919 | H8: =_xll.BDH("ALGEV FP Equity","BS_CASH_NEAR_CASH_ITEM","FY 2015","FY 2015","Currency=EUR","Period=FY","BEST_FPERIOD_OVERRIDE=FY","FILING_STATUS=MR","SCALING_FORMAT=MLN","Sort=A","Dates=H","DateFormat=P","Fill=—","Direction=H","UseDPDF=Y") -> 104.604 | I8: =_xll.BDH("ALGEV FP Equity","BS_CASH_NEAR_CASH_ITEM","FY 2016","FY 2016","Currency=EUR","Period=FY","BEST_FPERIOD_OVERRIDE=FY","FILING_STATUS=MR","SCALING_FORMAT=MLN","Sort=A","Dates=H","DateFormat=P","Fill=—","Direction=H","UseDPDF=Y") -> 106.992 | J8: =_xll.BDH("ALGEV FP Equity","BS_CASH_NEAR_CASH_ITEM","FY 2017","FY 2017","Currency=EUR","Period=FY","BEST_FPERIOD_OVERRIDE=FY","FILING_STATUS=MR","SCALING_FORMAT=MLN","Sort=A","Dates=H","DateFormat=P","Fill=—","Direction=H","UseDPDF=Y") -> 107.112 | K8: =_xll.BDH("ALGEV FP Equity","BS_CASH_NEAR_CASH_ITEM","FY 2018","FY 2018","Currency=EUR","Period=FY","BEST_FPERIOD_OVERRIDE=FY","FILING_STATUS=MR","SCALING_FORMAT=MLN","Sort=A","Dates=H","DateFormat=P","Fill=—","Direction=H","UseDPDF=Y") -> 89.179 | L8: =_xll.BDH("ALGEV FP Equity","BS_CASH_NEAR_CASH_ITEM","FY 2019","FY 2019","Currency=EUR","Period=FY","BEST_FPERIOD_OVERRIDE=FY","FILING_STATUS=MR","SCALING_FORMAT=MLN","Sort=A","Dates=H","DateFormat=P","Fill=—","Direction=H","UseDPDF=Y") -> 125.973
A9: + Investissements CT | B9: BS_MKT_SEC_OTHER_ST_INVEST | C9: =_xll.BDH("ALGEV FP Equity","BS_MKT_SEC_OTHER_ST_INVEST","FY 2010","FY 2010","Currency=EUR","Period=FY","BEST_FPERIOD_OVERRIDE=FY","FILING_STATUS=MR","SCALING_FORMAT=MLN","Sort=A","Dates=H","DateFormat=P","Fill=—","Direction=H","UseDPDF=Y") -> 14.528 | D9: =_xll.BDH("ALGEV FP Equity","BS_MKT_SEC_OTHER_ST_INVEST","FY 2011","FY 2011","Currency=EUR","Period=FY","BEST_FPERIOD_OVERRIDE=FY","FILING_STATUS=MR","SCALING_FORMAT=MLN","Sort=A","Dates=H","DateFormat=P","Fill=—","Direction=H","UseDPDF=Y") -> 3.001 | E9: =_xll.BDH("ALGEV FP Equity","BS_MKT_SEC_OTHER_ST_INVEST","FY 2012","FY 2012","Currency=EUR","Period=FY","BEST_FPERIOD_OVERRIDE=FY","FILING_STATUS=MR","SCALING_FORMAT=MLN","Sort=A","Dates=H","DateFormat=P","Fill=—","Direction=H","UseDPDF=Y") -> 15.76 | F9: =_xll.BDH("ALGEV FP Equity","BS_MKT_SEC_OTHER_ST_INVEST","FY 2013","FY 2013","Currency=EUR","Period=FY","BEST_FPERIOD_OVERRIDE=FY","FILING_STATUS=MR","SCALING_FORMAT=MLN","Sort=A","Dates=H","DateFormat=P","Fill=—","Direction=H","UseDPDF=Y") -> 8.148 | G9: =_xll.BDH("ALGEV FP Equity","BS_MKT_SEC_OTHER_ST_INVEST","FY 2014","FY 2014","Currency=EUR","Period=FY","BEST_FPERIOD_OVERRIDE=FY","FILING_STATUS=MR","SCALING_FORMAT=MLN","Sort=A","Dates=H","DateFormat=P","Fill=—","Direction=H","UseDPDF=Y") -> 8.285 | H9: =_xll.BDH("ALGEV FP Equity","BS_MKT_SEC_OTHER_ST_INVEST","FY 2015","FY 2015","Currency=EUR","Period=FY","BEST_FPERIOD_OVERRIDE=FY","FILING_STATUS=MR","SCALING_FORMAT=MLN","Sort=A","Dates=H","DateFormat=P","Fill=—","Direction=H","UseDPDF=Y") -> 0 | I9: =_xll.BDH("ALGEV FP Equity","BS_MKT_SEC_OTHER_ST_INVEST","FY 2016","FY 2016","Currency=EUR","Period=FY","BEST_FPERIOD_OVERRIDE=FY","FILING_STATUS=MR","SCALING_FORMAT=MLN","Sort=A","Dates=H","DateFormat=P","Fill=—","Direction=H","UseDPDF=Y") -> 0 | J9: =_xll.BDH("ALGEV FP Equity","BS_MKT_SEC_OTHER_ST_INVEST","FY 2017","FY 2017","Currency=EUR","Period=FY","BEST_FPERIOD_OVERRIDE=FY","FILING_STATUS=MR","SCALING_FORMAT=MLN","Sort=A","Dates=H","DateFormat=P","Fill=—","Direction=H","UseDPDF=Y") -> 0 | K9: =_xll.BDH("ALGEV FP Equity","BS_MKT_SEC_OTHER_ST_INVEST","FY 2018","FY 2018","Currency=EUR","Period=FY","BEST_FPERIOD_OVERRIDE=FY","FILING_STATUS=MR","SCALING_FORMAT=MLN","Sort=A","Dates=H","DateFormat=P","Fill=—","Direction=H","UseDPDF=Y") -> 85.322 | L9: =_xll.BDH("ALGEV FP Equity","BS_MKT_SEC_OTHER_ST_INVEST","FY 2019","FY 2019","Currency=EUR","Period=FY","BEST_FPERIOD_OVERRIDE=FY","FILING_STATUS=MR","SCALING_FORMAT=MLN","Sort=A","Dates=H","DateFormat=P","Fill=—","Direction=H","UseDPDF=Y") -> 34.753
A10: + Comptes clients et effets à recev | B10: BS_ACCT_NOTE_RCV | C10: =_xll.BDH("ALGEV FP Equity","BS_ACCT_NOTE_RCV","FY 2010","FY 2010","Currency=EUR","Period=FY","BEST_FPERIOD_OVERRIDE=FY","FILING_STATUS=MR","SCALING_FORMAT=MLN","Sort=A","Dates=H","DateFormat=P","Fill=—","Direction=H","UseDPDF=Y") -> 34.159 | D10: =_xll.BDH("ALGEV FP Equity","BS_ACCT_NOTE_RCV","FY 2011","FY 2011","Currency=EUR","Period=FY","BEST_FPERIOD_OVERRIDE=FY","FILING_STATUS=MR","SCALING_FORMAT=MLN","Sort=A","Dates=H","DateFormat=P","Fill=—","Direction=H","UseDPDF=Y") -> 50.273 | E10: =_xll.BDH("ALGEV FP Equity","BS_ACCT_NOTE_RCV","FY 2012","FY 2012","Currency=EUR","Period=FY","BEST_FPERIOD_OVERRIDE=FY","FILING_STATUS=MR","SCALING_FORMAT=MLN","Sort=A","Dates=H","DateFormat=P","Fill=—","Direction=H","UseDPDF=Y") -> 42.51 | F10: =_xll.BDH("ALGEV FP Equity","BS_ACCT_NOTE_RCV","FY 2013","FY 2013","Currency=EUR","Period=FY","BEST_FPERIOD_OVERRIDE=FY","FILING_STATUS=MR","SCALING_FORMAT=MLN","Sort=A","Dates=H","DateFormat=P","Fill=—","Direction=H","UseDPDF=Y") -> 43.64 | G10: =_xll.BDH("ALGEV FP Equity","BS_ACCT_NOTE_RCV","FY 2014","FY 2014","Currency=EUR","Period=FY","BEST_FPERIOD_OVERRIDE=FY","FILING_STATUS=MR","SCALING_FORMAT=MLN","Sort=A","Dates=H","DateFormat=P","Fill=—","Direction=H","UseDPDF=Y") -> 45.321 | H10: =_xll.BDH("ALGEV FP Equity","BS_ACCT_NOTE_RCV","FY 2015","FY 2015","Currency=EUR","Period=FY","BEST_FPERIOD_OVERRIDE=FY","FILING_STATUS=MR","SCALING_FORMAT=MLN","Sort=A","Dates=H","DateFormat=P","Fill=—","Direction=H","UseDPDF=Y") -> 48.406 | I10: =_xll.BDH("ALGEV FP Equity","BS_ACCT_NOTE_RCV","FY 2016","FY 2016","Currency=EUR","Period=FY","BEST_FPERIOD_OVERRIDE=FY","FILING_STATUS=MR","SCALING_FORMAT=MLN","Sort=A","Dates=H","DateFormat=P","Fill=—","Direction=H","UseDPDF=Y") -> 74.317 | J10: =_xll.BDH("ALGEV FP Equity","BS_ACCT_NOTE_RCV","FY 2017","FY 2017","Currency=EUR","Period=FY","BEST_FPERIOD_OVERRIDE=FY","FILING_STATUS=MR","SCALING_FORMAT=MLN","Sort=A","Dates=H","DateFormat=P","Fill=—","Direction=H","UseDPDF=Y") -> 47.544 | K10: =_xll.BDH("ALGEV FP Equity","BS_ACCT_NOTE_RCV","FY 2018","FY 2018","Currency=EUR","Period=FY","BEST_FPERIOD_OVERRIDE=FY","FILING_STATUS=MR","SCALING_FORMAT=MLN","Sort=A","Dates=H","DateFormat=P","Fill=—","Direction=H","UseDPDF=Y") -> 38.727 | L10: =_xll.BDH("ALGEV FP Equity","BS_ACCT_NOTE_RCV","FY 2019","FY 2019","Currency=EUR","Period=FY","BEST_FPERIOD_OVERRIDE=FY","FILING_STATUS=MR","SCALING_FORMAT=MLN","Sort=A","Dates=H","DateFormat=P","Fill=—","Direction=H","UseDPDF=Y") -> 45.898
A11: + Comptes clients - Net | B11: BS_ACCTS_REC_EXCL_NOTES_REC | C11: 0 | D11: 0 | E11: =_xll.BDH("ALGEV FP Equity","BS_ACCTS_REC_EXCL_NOTES_REC","FY 2012","FY 2012","Currency=EUR","Period=FY","BEST_FPERIOD_OVERRIDE=FY","FILING_STATUS=MR","SCALING_FORMAT=MLN","Sort=A","Dates=H","DateFormat=P","Fill=—","Direction=H","UseDPDF=Y") -> 42.51 | F11: =_xll.BDH("ALGEV FP Equity","BS_ACCTS_REC_EXCL_NOTES_REC","FY 2013","FY 2013","Currency=EUR","Period=FY","BEST_FPERIOD_OVERRIDE=FY","FILING_STATUS=MR","SCALING_FORMAT=MLN","Sort=A","Dates=H","DateFormat=P","Fill=—","Direction=H","UseDPDF=Y") -> 43.64 | G11: =_xll.BDH("ALGEV FP Equity","BS_ACCTS_REC_EXCL_NOTES_REC","FY 2014","FY 2014","Currency=EUR","Period=FY","BEST_FPERIOD_OVERRIDE=FY","FILING_STATUS=MR","SCALING_FORMAT=MLN","Sort=A","Dates=H","DateFormat=P","Fill=—","Direction=H","UseDPDF=Y") -> 45.321 | H11: =_xll.BDH("ALGEV FP Equity","BS_ACCTS_REC_EXCL_NOTES_REC","FY 2015","FY 2015","Currency=EUR","Period=FY","BEST_FPERIOD_OVERRIDE=FY","FILING_STATUS=MR","SCALING_FORMAT=MLN","Sort=A","Dates=H","DateFormat=P","Fill=—","Direction=H","UseDPDF=Y") -> 48.406 | I11: =_xll.BDH("ALGEV FP Equity","BS_ACCTS_REC_EXCL_NOTES_REC","FY 2016","FY 2016","Currency=EUR","Period=FY","BEST_FPERIOD_OVERRIDE=FY","FILING_STATUS=MR","SCALING_FORMAT=MLN","Sort=A","Dates=H","DateFormat=P","Fill=—","Direction=H","UseDPDF=Y") -> 74.317 | J11: =_xll.BDH("ALGEV FP Equity","BS_ACCTS_REC_EXCL_NOTES_REC","FY 2017","FY 2017","Currency=EUR","Period=FY","BEST_FPERIOD_OVERRIDE=FY","FILING_STATUS=MR","SCALING_FORMAT=MLN","Sort=A","Dates=H","DateFormat=P","Fill=—","Direction=H","UseDPDF=Y") -> 47.544 | K11: =_xll.BDH("ALGEV FP Equity","BS_ACCTS_REC_EXCL_NOTES_REC","FY 2018","FY 2018","Currency=EUR","Period=FY","BEST_FPERIOD_OVERRIDE=FY","FILING_STATUS=MR","SCALING_FORMAT=MLN","Sort=A","Dates=H","DateFormat=P","Fill=—","Direction=H","UseDPDF=Y") -> 38.727 | L11: =_xll.BDH("ALGEV FP Equity","BS_ACCTS_REC_EXCL_NOTES_REC","FY 2019","FY 2019","Currency=EUR","Period=FY","BEST_FPERIOD_OVERRIDE=FY","FILING_STATUS=MR","SCALING_FORMAT=MLN","Sort=A","Dates=H","DateFormat=P","Fill=—","Direction=H","UseDPDF=Y") -> 45.898
A12: + Effets à recevoir, nets | B12: NOTES_RECEIVABLE | C12: 0 | D12: 0 | E12: 0 | F12: 0 | G12: 0 | H12: 0 | I12: =_xll.BDH("ALGEV FP Equity","NOTES_RECEIVABLE","FY 2016","FY 2016","Currency=EUR","Period=FY","BEST_FPERIOD_OVERRIDE=FY","FILING_STATUS=MR","SCALING_FORMAT=MLN","Sort=A","Dates=H","DateFormat=P","Fill=—","Direction=H","UseDPDF=Y") -> 0 | J12: =_xll.BDH("ALGEV FP Equity","NOTES_RECEIVABLE","FY 2017","FY 2017","Currency=EUR","Period=FY","BEST_FPERIOD_OVERRIDE=FY","FILING_STATUS=MR","SCALING_FORMAT=MLN","Sort=A","Dates=H","DateFormat=P","Fill=—","Direction=H","UseDPDF=Y") -> 0 | K12: =_xll.BDH("ALGEV FP Equity","NOTES_RECEIVABLE","FY 2018","FY 2018","Currency=EUR","Period=FY","BEST_FPERIOD_OVERRIDE=FY","FILING_STATUS=MR","SCALING_FORMAT=MLN","Sort=A","Dates=H","DateFormat=P","Fill=—","Direction=H","UseDPDF=Y") -> 0 | L12: =_xll.BDH("ALGEV FP Equity","NOTES_RECEIVABLE","FY 2019","FY 2019","Currency=EUR","Period=FY","BEST_FPERIOD_OVERRIDE=FY","FILING_STATUS=MR","SCALING_FORMAT=MLN","Sort=A","Dates=H","DateFormat=P","Fill=—","Direction=H","UseDPDF=Y") -> 0
A13: + Stocks | B13: BS_INVENTORIES | C13: =_xll.BDH("ALGEV FP Equity","BS_INVENTORIES","FY 2010","FY 2010","Currency=EUR","Period=FY","BEST_FPERIOD_OVERRIDE=FY","FILING_STATUS=MR","SCALING_FORMAT=MLN","Sort=A","Dates=H","DateFormat=P","Fill=—","Direction=H","UseDPDF=Y") -> 29.02 | D13: =_xll.BDH("ALGEV FP Equity","BS_INVENTORIES","FY 2011","FY 2011","Currency=EUR","Period=FY","BEST_FPERIOD_OVERRIDE=FY","FILING_STATUS=MR","SCALING_FORMAT=MLN","Sort=A","Dates=H","DateFormat=P","Fill=—","Direction=H","UseDPDF=Y") -> 36.13 | E13: =_xll.BDH("ALGEV FP Equity","BS_INVENTORIES","FY 2012","FY 2012","Currency=EUR","Period=FY","BEST_FPERIOD_OVERRIDE=FY","FILING_STATUS=MR","SCALING_FORMAT=MLN","Sort=A","Dates=H","DateFormat=P","Fill=—","Direction=H","UseDPDF=Y") -> 35.028 | F13: =_xll.BDH("ALGEV FP Equity","BS_INVENTORIES","FY 2013","FY 2013","Currency=EUR","Period=FY","BEST_FPERIOD_OVERRIDE=FY","FILING_STATUS=MR","SCALING_FORMAT=MLN","Sort=A","Dates=H","DateFormat=P","Fill=—","Direction=H","UseDPDF=Y") -> 37.11 | G13: =_xll.BDH("ALGEV FP Equity","BS_INVENTORIES","FY 2014","FY 2014","Currency=EUR","Period=FY","BEST_FPERIOD_OVERRIDE=FY","FILING_STATUS=MR","SCALING_FORMAT=MLN","Sort=A","Dates=H","DateFormat=P","Fill=—","Direction=H","UseDPDF=Y") -> 45.495 | H13: =_xll.BDH("ALGEV FP Equity","BS_INVENTORIES","FY 2015","FY 2015","Currency=EUR","Period=FY","BEST_FPERIOD_OVERRIDE=FY","FILING_STATUS=MR","SCALING_FORMAT=MLN","Sort=A","Dates=H","DateFormat=P","Fill=—","Direction=H","UseDPDF=Y") -> 46.171 | I13: =_xll.BDH("ALGEV FP Equity","BS_INVENTORIES","FY 2016","FY 2016","Currency=EUR","Period=FY","BEST_FPERIOD_OVERRIDE=FY","FILING_STATUS=MR","SCALING_FORMAT=MLN","Sort=A","Dates=H","DateFormat=P","Fill=—","Direction=H","UseDPDF=Y") -> 40.145 | J13: =_xll.BDH("ALGEV FP Equity","BS_INVENTORIES","FY 2017","FY 2017","Currency=EUR","Period=FY","BEST_FPERIOD_OVERRIDE=FY","FILING_STATUS=MR","SCALING_FORMAT=MLN","Sort=A","Dates=H","DateFormat=P","Fill=—","Direction=H","UseDPDF=Y") -> 27.105 | K13: =_xll.BDH("ALGEV FP Equity","BS_INVENTORIES","FY 2018","FY 2018","Currency=EUR","Period=FY","BEST_FPERIOD_OVERRIDE=FY","FILING_STATUS=MR","SCALING_FORMAT=MLN","Sort=A","Dates=H","DateFormat=P","Fill=—","Direction=H","UseDPDF=Y") -> 26.247 | L13: =_xll.BDH("ALGEV FP Equity","BS_INVENTORIES","FY 2019","FY 2019","Currency=EUR","Period=FY","BEST_FPERIOD_OVERRIDE=FY","FILING_STATUS=MR","SCALING_FORMAT=MLN","Sort=A","Dates=H","DateFormat=P","Fill=—","Direction=H","UseDPDF=Y") -> 33.162
A14: + Matériaux de base | B14: INVTRY_RAW_MATERIALS | C14: =_xll.BDH("ALGEV FP Equity","INVTRY_RAW_MATERIALS","FY 2010","FY 2010","Currency=EUR","Period=FY","BEST_FPERIOD_OVERRIDE=FY","FILING_STATUS=MR","SCALING_FORMAT=MLN","Sort=A","Dates=H","DateFormat=P","Fill=—","Direction=H","UseDPDF=Y") -> 12.797 | D14: =_xll.BDH("ALGEV FP Equity","INVTRY_RAW_MATERIALS","FY 2011","FY 2011","Currency=EUR","Period=FY","BEST_FPERIOD_OVERRIDE=FY","FILING_STATUS=MR","SCALING_FORMAT=MLN","Sort=A","Dates=H","DateFormat=P","Fill=—","Direction=H","UseDPDF=Y") -> 16.818 | E14: =_xll.BDH("ALGEV FP Equity","INVTRY_RAW_MATERIALS","FY 2012","FY 2012","Currency=EUR","Period=FY","BEST_FPERIOD_OVERRIDE=FY","FILING_STATUS=MR","SCALING_FORMAT=MLN","Sort=A","Dates=H","DateFormat=P","Fill=—","Direction=H","UseDPDF=Y") -> 18.216 | F14: =_xll.BDH("ALGEV FP Equity","INVTRY_RAW_MATERIALS","FY 2013","FY 2013","Currency=EUR","Period=FY","BEST_FPERIOD_OVERRIDE=FY","FILING_STATUS=MR","SCALING_FORMAT=MLN","Sort=A","Dates=H","DateFormat=P","Fill=—","Direction=H","UseDPDF=Y") -> 15.509 | G14: =_xll.BDH("ALGEV FP Equity","INVTRY_RAW_MATERIALS","FY 2014","FY 2014","Currency=EUR","Period=FY","BEST_FPERIOD_OVERRIDE=FY","FILING_STATUS=MR","SCALING_FORMAT=MLN","Sort=A","Dates=H","DateFormat=P","Fill=—","Direction=H","UseDPDF=Y") -> 16.981 | H14: =_xll.BDH("ALGEV FP Equity","INVTRY_RAW_MATERIALS","FY 2015","FY 2015","Currency=EUR","Period=FY","BEST_FPERIOD_OVERRIDE=FY","FILING_STATUS=MR","SCALING_FORMAT=MLN","Sort=A","Dates=H","DateFormat=P","Fill=—","Direction=H","UseDPDF=Y") -> 20.62 | I14: =_xll.BDH("ALGEV FP Equity","INVTRY_RAW_MATERIALS","FY 2016","FY 2016","Currency=EUR","Period=FY","BEST_FPERIOD_OVERRIDE=FY","FILING_STATUS=MR","SCALING_FORMAT=MLN","Sort=A","Dates=H","DateFormat=P","Fill=—","Direction=H","UseDPDF=Y") -> 19.988 | J14: =_xll.BDH("ALGEV FP Equity","INVTRY_RAW_MATERIALS","FY 2017","FY 2017","Currency=EUR","Period=FY","BEST_FPERIOD_OVERRIDE=FY","FILING_STATUS=MR","SCALING_FORMAT=MLN","Sort=A","Dates=H","DateFormat=P","Fill=—","Direction=H","UseDPDF=Y") -> 13.764 | K14: =_xll.BDH("ALGEV FP Equity","INVTRY_RAW_MATERIALS","FY 2018","FY 2018","Currency=EUR","Period=FY","BEST_FPERIOD_OVERRIDE=FY","FILING_STATUS=MR","SCALING_FORMAT=MLN","Sort=A","Dates=H","DateFormat=P","Fill=—","Direction=H","UseDPDF=Y") -> 0 | L14: =_xll.BDH("ALGEV FP Equity","INVTRY_RAW_MATERIALS","FY 2019","FY 2019","Currency=EUR","Period=FY","BEST_FPERIOD_OVERRIDE=FY","FILING_STATUS=MR","SCALING_FORMAT=MLN","Sort=A","Dates=H","DateFormat=P","Fill=—","Direction=H","UseDPDF=Y") -> 0
A15: + Travail en cours | B15: INVTRY_IN_PROGRESS | C15: =_xll.BDH("ALGEV FP Equity","INVTRY_IN_PROGRESS","FY 2010","FY 2010","Currency=EUR","Period=FY","BEST_FPERIOD_OVERRIDE=FY","FILING_STATUS=MR","SCALING_FORMAT=MLN","Sort=A","Dates=H","DateFormat=P","Fill=—","Direction=H","UseDPDF=Y") -> 5.662 | D15: =_xll.BDH("ALGEV FP Equity","INVTRY_IN_PROGRESS","FY 2011","FY 2011","Currency=EUR","Period=FY","BEST_FPERIOD_OVERRIDE=FY","FILING_STATUS=MR","SCALING_FORMAT=MLN","Sort=A","Dates=H","DateFormat=P","Fill=—","Direction=H","UseDPDF=Y") -> 7.237 | E15: =_xll.BDH("ALGEV FP Equity","INVTRY_IN_PROGRESS","FY 2012","FY 2012","Currency=EUR","Period=FY","BEST_FPERIOD_OVERRIDE=FY","FILING_STATUS=MR","SCALING_FORMAT=MLN","Sort=A","Dates=H","DateFormat=P","Fill=—","Direction=H","UseDPDF=Y") -> 7.016 | F15: =_xll.BDH("ALGEV FP Equity","INVTRY_IN_PROGRESS","FY 2013","FY 2013","Currency=EUR","Period=FY","BEST_FPERIOD_OVERRIDE=FY","FILING_STATUS=MR","SCALING_FORMAT=MLN","Sort=A","Dates=H","DateFormat=P","Fill=—","Direction=H","UseDPDF=Y") -> 7.808 | G15: =_xll.BDH("ALGEV FP Equity","INVTRY_IN_PROGRESS","FY 2014","FY 2014","Currency=EUR","Period=FY","BEST_FPERIOD_OVERRIDE=FY","FILING_STATUS=MR","SCALING_FORMAT=MLN","Sort=A","Dates=H","DateFormat=P","Fill=—","Direction=H","UseDPDF=Y") -> 6.85 | H15: =_xll.BDH("ALGEV FP Equity","INVTRY_IN_PROGRESS","FY 2015","FY 2015","Currency=EUR","Period=FY","BEST_FPERIOD_OVERRIDE=FY","FILING_STATUS=MR","SCALING_FORMAT=MLN","Sort=A","Dates=H","DateFormat=P","Fill=—","Direction=H","UseDPDF=Y") -> 6.671 | I15: =_xll.BDH("ALGEV FP Equity","INVTRY_IN_PROGRESS","FY 2016","FY 2016","Currency=EUR","Period=FY","BEST_FPERIOD_OVERRIDE=FY","FILING_STATUS=MR","SCALING_FORMAT=MLN","Sort=A","Dates=H","DateFormat=P","Fill=—","Direction=H","UseDPDF=Y") -> 5.528 | J15: =_xll.BDH("ALGEV FP Equity","INVTRY_IN_PROGRESS","FY 2017","FY 2017","Currency=EUR","Period=FY","BEST_FPERIOD_OVERRIDE=FY","FILING_STATUS=MR","SCALING_FORMAT=MLN","Sort=A","Dates=H","DateFormat=P","Fill=—","Direction=H","UseDPDF=Y") -> 1.298 | K15: =_xll.BDH("ALGEV FP Equity","INVTRY_IN_PROGRESS","FY 2018","FY 2018","Currency=EUR","Period=FY","BEST_FPERIOD_OVERRIDE=FY","FILING_STATUS=MR","SCALING_FORMAT=MLN","Sort=A","Dates=H","DateFormat=P","Fill=—","Direction=H","UseDPDF=Y") -> 0 | L15: =_xll.BDH("ALGEV FP Equity","INVTRY_IN_PROGRESS","FY 2019","FY 2019","Currency=EUR","Period=FY","BEST_FPERIOD_OVERRIDE=FY","FILING_STATUS=MR","SCALING_FORMAT=MLN","Sort=A","Dates=H","DateFormat=P","Fill=—","Direction=H","UseDPDF=Y") -> 0
A16: + Produits finis | B16: INVTRY_FINISHED_GOODS | C16: =_xll.BDH("ALGEV FP Equity","INVTRY_FINISHED_GOODS","FY 2010","FY 2010","Currency=EUR","Period=FY","BEST_FPERIOD_OVERRIDE=FY","FILING_STATUS=MR","SCALING_FORMAT=MLN","Sort=A","Dates=H","DateFormat=P","Fill=—","Direction=H","UseDPDF=Y") -> 10.561 | D16: =_xll.BDH("ALGEV FP Equity","INVTRY_FINISHED_GOODS","FY 2011","FY 2011","Currency=EUR","Period=FY","BEST_FPERIOD_OVERRIDE=FY","FILING_STATUS=MR","SCALING_FORMAT=MLN","Sort=A","Dates=H","DateFormat=P","Fill=—","Direction=H","UseDPDF=Y") -> 12.075 | E16: =_xll.BDH("ALGEV FP Equity","INVTRY_FINISHED_GOODS","FY 2012","FY 2012","Currency=EUR","Period=FY","BEST_FPERIOD_OVERRIDE=FY","FILING_STATUS=MR","SCALING_FORMAT=MLN","Sort=A","Dates=H","DateFormat=P","Fill=—","Direction=H","UseDPDF=Y") -> 13.593 | F16: =_xll.BDH("ALGEV FP Equity","INVTRY_FINISHED_GOODS","FY 2013","FY 2013","Currency=EUR","Period=FY","BEST_FPERIOD_OVERRIDE=FY","FILING_STATUS=MR","SCALING_FORMAT=MLN","Sort=A","Dates=H","DateFormat=P","Fill=—","Direction=H","UseDPDF=Y") -> 1.865 | G16: =_xll.BDH("ALGEV FP Equity","INVTRY_FINISHED_GOODS","FY 2014","FY 2014","Currency=EUR","Period=FY","BEST_FPERIOD_OVERRIDE=FY","FILING_STATUS=MR","SCALING_FORMAT=MLN","Sort=A","Dates=H","DateFormat=P","Fill=—","Direction=H","UseDPDF=Y") -> 10.11 | H16: =_xll.BDH("ALGEV FP Equity","INVTRY_FINISHED_GOODS","FY 2015","FY 2015","Currency=EUR","Period=FY","BEST_FPERIOD_OVERRIDE=FY","FILING_STATUS=MR","SCALING_FORMAT=MLN","Sort=A","Dates=H","DateFormat=P","Fill=—","Direction=H","UseDPDF=Y") -> 7.926 | I16: =_xll.BDH("ALGEV FP Equity","INVTRY_FINISHED_GOODS","FY 2016","FY 2016","Currency=EUR","Period=FY","BEST_FPERIOD_OVERRIDE=FY","FILING_STATUS=MR","SCALING_FORMAT=MLN","Sort=A","Dates=H","DateFormat=P","Fill=—","Direction=H","UseDPDF=Y") -> 14.629 | J16: =_xll.BDH("ALGEV FP Equity","INVTRY_FINISHED_GOODS","FY 2017","FY 2017","Currency=EUR","Period=FY","BEST_FPERIOD_OVERRIDE=FY","FILING_STATUS=MR","SCALING_FORMAT=MLN","Sort=A","Dates=H","DateFormat=P","Fill=—","Direction=H","UseDPDF=Y") -> 12.043 | K16: =_xll.BDH("ALGEV FP Equity","INVTRY_FINISHED_GOODS","FY 2018","FY 2018","Currency=EUR","Period=FY","BEST_FPERIOD_OVERRIDE=FY","FILING_STATUS=MR","SCALING_FORMAT=MLN","Sort=A","Dates=H","DateFormat=P","Fill=—","Direction=H","UseDPDF=Y") -> 26.911 | L16: =_xll.BDH("ALGEV FP Equity","INVTRY_FINISHED_GOODS","FY 2019","FY 2019","Currency=EUR","Period=FY","BEST_FPERIOD_OVERRIDE=FY","FILING_STATUS=MR","SCALING_FORMAT=MLN","Sort=A","Dates=H","DateFormat=P","Fill=—","Direction=H","UseDPDF=Y") -> 33.646
A17: + Autres stocks | B17: BS_OTHER_INV | C17: =_xll.BDH("ALGEV FP Equity","BS_OTHER_INV","FY 2010","FY 2010","Currency=EUR","Period=FY","BEST_FPERIOD_OVERRIDE=FY","FILING_STATUS=MR","SCALING_FORMAT=MLN","Sort=A","Dates=H","DateFormat=P","Fill=—","Direction=H","UseDPDF=Y") -> 0 | D17: =_xll.BDH("ALGEV FP Equity","BS_OTHER_INV","FY 2011","FY 2011","Currency=EUR","Period=FY","BEST_FPERIOD_OVERRIDE=FY","FILING_STATUS=MR","SCALING_FORMAT=MLN","Sort=A","Dates=H","DateFormat=P","Fill=—","Direction=H","UseDPDF=Y") -> 0 | E17: =_xll.BDH("ALGEV FP Equity","BS_OTHER_INV","FY 2012","FY 2012","Currency=EUR","Period=FY","BEST_FPERIOD_OVERRIDE=FY","FILING_STATUS=MR","SCALING_FORMAT=MLN","Sort=A","Dates=H","DateFormat=P","Fill=—","Direction=H","UseDPDF=Y") -> -3.797 | F17: =_xll.BDH("ALGEV FP Equity","BS_OTHER_INV","FY 2013","FY 2013","Currency=EUR","Period=FY","BEST_FPERIOD_OVERRIDE=FY","FILING_STATUS=MR","SCALING_FORMAT=MLN","Sort=A","Dates=H","DateFormat=P","Fill=—","Direction=H","UseDPDF=Y") -> 11.928 | G17: =_xll.BDH("ALGEV FP Equity","BS_OTHER_INV","FY 2014","FY 2014","Currency=EUR","Period=FY","BEST_FPERIOD_OVERRIDE=FY","FILING_STATUS=MR","SCALING_FORMAT=MLN","Sort=A","Dates=H","DateFormat=P","Fill=—","Direction=H","UseDPDF=Y") -> 11.554 | H17: =_xll.BDH("ALGEV FP Equity","BS_OTHER_INV","FY 2015","FY 2015","Currency=EUR","Period=FY","BEST_FPERIOD_OVERRIDE=FY","FILING_STATUS=MR","SCALING_FORMAT=MLN","Sort=A","Dates=H","DateFormat=P","Fill=—","Direction=H","UseDPDF=Y") -> 10.954 | I17: =_xll.BDH("ALGEV FP Equity","BS_OTHER_INV","FY 2016","FY 2016","Currency=EUR","Period=FY","BEST_FPERIOD_OVERRIDE=FY","FILING_STATUS=MR","SCALING_FORMAT=MLN","Sort=A","Dates=H","DateFormat=P","Fill=—","Direction=H","UseDPDF=Y") -> 0 | J17: =_xll.BDH("ALGEV FP Equity","BS_OTHER_INV","FY 2017","FY 2017","Currency=EUR","Period=FY","BEST_FPERIOD_OVERRIDE=FY","FILING_STATUS=MR","SCALING_FORMAT=MLN","Sort=A","Dates=H","DateFormat=P","Fill=—","Direction=H","UseDPDF=Y") -> 0 | K17: =_xll.BDH("ALGEV FP Equity","BS_OTHER_INV","FY 2018","FY 2018","Currency=EUR","Period=FY","BEST_FPERIOD_OVERRIDE=FY","FILING_STATUS=MR","SCALING_FORMAT=MLN","Sort=A","Dates=H","DateFormat=P","Fill=—","Direction=H","UseDPDF=Y") -> -0.664 | L17: =_xll.BDH("ALGEV FP Equity","BS_OTHER_INV","FY 2019","FY 2019","Currency=EUR","Period=FY","BEST_FPERIOD_OVERRIDE=FY","FILING_STATUS=MR","SCALING_FORMAT=MLN","Sort=A","Dates=H","DateFormat=P","Fill=—","Direction=H","UseDPDF=Y") -> -0.484
A18: + Autres actifs CT | B18: OTHER_CURRENT_ASSETS_DETAILED | C18: =_xll.BDH("ALGEV FP Equity","OTHER_CURRENT_ASSETS_DETAILED","FY 2010","FY 2010","Currency=EUR","Period=FY","BEST_FPERIOD_OVERRIDE=FY","FILING_STATUS=MR","SCALING_FORMAT=MLN","Sort=A","Dates=H","DateFormat=P","Fill=—","Direction=H","UseDPDF=Y") -> 4.585 | D18: =_xll.BDH("ALGEV FP Equity","OTHER_CURRENT_ASSETS_DETAILED","FY 2011","FY 2011","Currency=EUR","Period=FY","BEST_FPERIOD_OVERRIDE=FY","FILING_STATUS=MR","SCALING_FORMAT=MLN","Sort=A","Dates=H","DateFormat=P","Fill=—","Direction=H","UseDPDF=Y") -> 9.583 | E18: =_xll.BDH("ALGEV FP Equity","OTHER_CURRENT_ASSETS_DETAILED","FY 2012","FY 2012","Currency=EUR","Period=FY","BEST_FPERIOD_OVERRIDE=FY","FILING_STATUS=MR","SCALING_FORMAT=MLN","Sort=A","Dates=H","DateFormat=P","Fill=—","Direction=H","UseDPDF=Y") -> 11.7 | F18: =_xll.BDH("ALGEV FP Equity","OTHER_CURRENT_ASSETS_DETAILED","FY 2013","FY 2013","Currency=EUR","Period=FY","BEST_FPERIOD_OVERRIDE=FY","FILING_STATUS=MR","SCALING_FORMAT=MLN","Sort=A","Dates=H","DateFormat=P","Fill=—","Direction=H","UseDPDF=Y") -> 22.968 | G18: =_xll.BDH("ALGEV FP Equity","OTHER_CURRENT_ASSETS_DETAILED","FY 2014","FY 2014","Currency=EUR","Period=FY","BEST_FPERIOD_OVERRIDE=FY","FILING_STATUS=MR","SCALING_FORMAT=MLN","Sort=A","Dates=H","DateFormat=P","Fill=—","Direction=H","UseDPDF=Y") -> 19.328 | H18: =_xll.BDH("ALGEV FP Equity","OTHER_CURRENT_ASSETS_DETAILED","FY 2015","FY 2015","Currency=EUR","Period=FY","BEST_FPERIOD_OVERRIDE=FY","FILING_STATUS=MR","SCALING_FORMAT=MLN","Sort=A","Dates=H","DateFormat=P","Fill=—","Direction=H","UseDPDF=Y") -> 39.348 | I18: =_xll.BDH("ALGEV FP Equity","OTHER_CURRENT_ASSETS_DETAILED","FY 2016","FY 2016","Currency=EUR","Period=FY","BEST_FPERIOD_OVERRIDE=FY","FILING_STATUS=MR","SCALING_FORMAT=MLN","Sort=A","Dates=H","DateFormat=P","Fill=—","Direction=H","UseDPDF=Y") -> 47.434 | J18: =_xll.BDH("ALGEV FP Equity","OTHER_CURRENT_ASSETS_DETAILED","FY 2017","FY 2017","Currency=EUR","Period=FY","BEST_FPERIOD_OVERRIDE=FY","FILING_STATUS=MR","SCALING_FORMAT=MLN","Sort=A","Dates=H","DateFormat=P","Fill=—","Direction=H","UseDPDF=Y") -> 72.455 | K18: =_xll.BDH("ALGEV FP Equity","OTHER_CURRENT_ASSETS_DETAILED","FY 2018","FY 2018","Currency=EUR","Period=FY","BEST_FPERIOD_OVERRIDE=FY","FILING_STATUS=MR","SCALING_FORMAT=MLN","Sort=A","Dates=H","DateFormat=P","Fill=—","Direction=H","UseDPDF=Y") -> 4.967 | L18: =_xll.BDH("ALGEV FP Equity","OTHER_CURRENT_ASSETS_DETAILED","FY 2019","FY 2019","Currency=EUR","Period=FY","BEST_FPERIOD_OVERRIDE=FY","FILING_STATUS=MR","SCALING_FORMAT=MLN","Sort=A","Dates=H","DateFormat=P","Fill=—","Direction=H","UseDPDF=Y") -> 3.718
A19: + Charges payées d'avance | B19: BS_PREPAY | C19: 0 | D19: 0 | E19: 0 | F19: 0 | G19: 0 | H19: 0 | I19: 0 | J19: 0 | K19: =_xll.BDH("ALGEV FP Equity","BS_PREPAY","FY 2018","FY 2018","Currency=EUR","Period=FY","BEST_FPERIOD_OVERRIDE=FY","FILING_STATUS=MR","SCALING_FORMAT=MLN","Sort=A","Dates=H","DateFormat=P","Fill=—","Direction=H","UseDPDF=Y") -> 0.119 | L19: =_xll.BDH("ALGEV FP Equity","BS_PREPAY","FY 2019","FY 2019","Currency=EUR","Period=FY","BEST_FPERIOD_OVERRIDE=FY","FILING_STATUS=MR","SCALING_FORMAT=MLN","Sort=A","Dates=H","DateFormat=P","Fill=—","Direction=H","UseDPDF=Y") -> 0.338
A20: + Actifs de dérivés et couverture | B20: BS_DERIV_&_HEDGING_ASSETS_ST | C20: 0 | D20: 0 | E20: 0 | F20: 0 | G20: 0 | H20: 0 | I20: =_xll.BDH("ALGEV FP Equity","BS_DERIV_&_HEDGING_ASSETS_ST","FY 2016","FY 2016","Currency=EUR","Period=FY","BEST_FPERIOD_OVERRIDE=FY","FILING_STATUS=MR","SCALING_FORMAT=MLN","Sort=A","Dates=H","DateFormat=P","Fill=—","Direction=H","UseDPDF=Y") -> 0 | J20: =_xll.BDH("ALGEV FP Equity","BS_DERIV_&_HEDGING_ASSETS_ST","FY 2017","FY 2017","Currency=EUR","Period=FY","BEST_FPERIOD_OVERRIDE=FY","FILING_STATUS=MR","SCALING_FORMAT=MLN","Sort=A","Dates=H","DateFormat=P","Fill=—","Direction=H","UseDPDF=Y") -> 0 | K20: =_xll.BDH("ALGEV FP Equity","BS_DERIV_&_HEDGING_ASSETS_ST","FY 2018","FY 2018","Currency=EUR","Period=FY","BEST_FPERIOD_OVERRIDE=FY","FILING_STATUS=MR","SCALING_FORMAT=MLN","Sort=A","Dates=H","DateFormat=P","Fill=—","Direction=H","UseDPDF=Y") -> 0 | L20: =_xll.BDH("ALGEV FP Equity","BS_DERIV_&_HEDGING_ASSETS_ST","FY 2019","FY 2019","Currency=EUR","Period=FY","BEST_FPERIOD_OVERRIDE=FY","FILING_STATUS=MR","SCALING_FORMAT=MLN","Sort=A","Dates=H","DateFormat=P","Fill=—","Direction=H","UseDPDF=Y") -> 0
A21: + Actifs détenus pour la vente | B21: BS_ASSETS_HELD_FOR_SALE_ST | C21: 0 | D21: 0 | E21: 0 | F21: 0 | G21: 0 | H21: 0 | I21: =_xll.BDH("ALGEV FP Equity","BS_ASSETS_HELD_FOR_SALE_ST","FY 2016","FY 2016","Currency=EUR","Period=FY","BEST_FPERIOD_OVERRIDE=FY","FILING_STATUS=MR","SCALING_FORMAT=MLN","Sort=A","Dates=H","DateFormat=P","Fill=—","Direction=H","UseDPDF=Y") -> 0 | J21: =_xll.BDH("ALGEV FP Equity","BS_ASSETS_HELD_FOR_SALE_ST","FY 2017","FY 2017","Currency=EUR","Period=FY","BEST_FPERIOD_OVERRIDE=FY","FILING_STATUS=MR","SCALING_FORMAT=MLN","Sort=A","Dates=H","DateFormat=P","Fill=—","Direction=H","UseDPDF=Y") -> 0 | K21: =_xll.BDH("ALGEV FP Equity","BS_ASSETS_HELD_FOR_SALE_ST","FY 2018","FY 2018","Currency=EUR","Period=FY","BEST_FPERIOD_OVERRIDE=FY","FILING_STATUS=MR","SCALING_FORMAT=MLN","Sort=A","Dates=H","DateFormat=P","Fill=—","Direction=H","UseDPDF=Y") -> 0 | L21: =_xll.BDH("ALGEV FP Equity","BS_ASSETS_HELD_FOR_SALE_ST","FY 2019","FY 2019","Currency=EUR","Period=FY","BEST_FPERIOD_OVERRIDE=FY","FILING_STATUS=MR","SCALING_FORMAT=MLN","Sort=A","Dates=H","DateFormat=P","Fill=—","Direction=H","UseDPDF=Y") -> 0
A22: + Actifs fiscaux différés | B22: BS_DEFERRED_TAX_ASSETS_ST | C22: 0 | D22: 0 | E22: 0 | F22: 0 | G22: 0 | H22: 0 | I22: 0 | J22: 0 | K22: =_xll.BDH("ALGEV FP Equity","BS_DEFERRED_TAX_ASSETS_ST","FY 2018","FY 2018","Currency=EUR","Period=FY","BEST_FPERIOD_OVERRIDE=FY","FILING_STATUS=MR","SCALING_FORMAT=MLN","Sort=A","Dates=H","DateFormat=P","Fill=—","Direction=H","UseDPDF=Y") -> 1.511 | L22: =_xll.BDH("ALGEV FP Equity","BS_DEFERRED_TAX_ASSETS_ST","FY 2019","FY 2019","Currency=EUR","Period=FY","BEST_FPERIOD_OVERRIDE=FY","FILING_STATUS=MR","SCALING_FORMAT=MLN","Sort=A","Dates=H","DateFormat=P","Fill=—","Direction=H","UseDPDF=Y") -> 1.404
A23: + Impôts à recevoir | B23: BS_TAXES_RECEIVABLE_SHORT_TERM | C23: 0 | D23: 0 | E23: 0 | F23: 0 | G23: 0 | H23: 0 | I23: =_xll.BDH("ALGEV FP Equity","BS_TAXES_RECEIVABLE_SHORT_TERM","FY 2016","FY 2016","Currency=EUR","Period=FY","BEST_FPERIOD_OVERRIDE=FY","FILING_STATUS=MR","SCALING_FORMAT=MLN","Sort=A","Dates=H","DateFormat=P","Fill=—","Direction=H","UseDPDF=Y") -> 0.046 | J23: =_xll.BDH("ALGEV FP Equity","BS_TAXES_RECEIVABLE_SHORT_TERM","FY 2017","FY 2017","Currency=EUR","Period=FY","BEST_FPERIOD_OVERRIDE=FY","FILING_STATUS=MR","SCALING_FORMAT=MLN","Sort=A","Dates=H","DateFormat=P","Fill=—","Direction=H","UseDPDF=Y") -> 0 | K23: =_xll.BDH("ALGEV FP Equity","BS_TAXES_RECEIVABLE_SHORT_TERM","FY 2018","FY 2018","Currency=EUR","Period=FY","BEST_FPERIOD_OVERRIDE=FY","FILING_STATUS=MR","SCALING_FORMAT=MLN","Sort=A","Dates=H","DateFormat=P","Fill=—","Direction=H","UseDPDF=Y") -> 1.195 | L23: =_xll.BDH("ALGEV FP Equity","BS_TAXES_RECEIVABLE_SHORT_TERM","FY 2019","FY 2019","Currency=EUR","Period=FY","BEST_FPERIOD_OVERRIDE=FY","FILING_STATUS=MR","SCALING_FORMAT=MLN","Sort=A","Dates=H","DateFormat=P","Fill=—","Direction=H","UseDPDF=Y") -> 0.435
A24: + Divers actifs CT | B24: BS_OTHER_CUR_ASSET_LESS_PREPAY | C24: 0 | D24: 0 | E24: 0 | F24: 0 | G24: 0 | H24: 0 | I24: =_xll.BDH("ALGEV FP Equity","BS_OTHER_CUR_ASSET_LESS_PREPAY","FY 2016","FY 2016","Currency=EUR","Period=FY","BEST_FPERIOD_OVERRIDE=FY","FILING_STATUS=MR","SCALING_FORMAT=MLN","Sort=A","Dates=H","DateFormat=P","Fill=—","Direction=H","UseDPDF=Y") -> 47.388 | J24: =_xll.BDH("ALGEV FP Equity","BS_OTHER_CUR_ASSET_LESS_PREPAY","FY 2017","FY 2017","Currency=EUR","Period=FY","BEST_FPERIOD_OVERRIDE=FY","FILING_STATUS=MR","SCALING_FORMAT=MLN","Sort=A","Dates=H","DateFormat=P","Fill=—","Direction=H","UseDPDF=Y") -> 72.455 | K24: =_xll.BDH("ALGEV FP Equity","BS_OTHER_CUR_ASSET_LESS_PREPAY","FY 2018","FY 2018","Currency=EUR","Period=FY","BEST_FPERIOD_OVERRIDE=FY","FILING_STATUS=MR","SCALING_FORMAT=MLN","Sort=A","Dates=H","DateFormat=P","Fill=—","Direction=H","UseDPDF=Y") -> 2.142 | L24: =_xll.BDH("ALGEV FP Equity","BS_OTHER_CUR_ASSET_LESS_PREPAY","FY 2019","FY 2019","Currency=EUR","Period=FY","BEST_FPERIOD_OVERRIDE=FY","FILING_STATUS=MR","SCALING_FORMAT=MLN","Sort=A","Dates=H","DateFormat=P","Fill=—","Direction=H","UseDPDF=Y") -> 1.541
A25: Total des actifs court terme | B25: BS_CUR_ASSET_REPORT | C25: =_xll.BDH("ALGEV FP Equity","BS_CUR_ASSET_REPORT","FY 2010","FY 2010","Currency=EUR","Period=FY","BEST_FPERIOD_OVERRIDE=FY","FILING_STATUS=MR","SCALING_FORMAT=MLN","Sort=A","Dates=H","DateFormat=P","Fill=—","Direction=H","UseDPDF=Y") -> 104.26 | D25: =_xll.BDH("ALGEV FP Equity","BS_CUR_ASSET_REPORT","FY 2011","FY 2011","Currency=EUR","Period=FY","BEST_FPERIOD_OVERRIDE=FY","FILING_STATUS=MR","SCALING_FORMAT=MLN","Sort=A","Dates=H","DateFormat=P","Fill=—","Direction=H","UseDPDF=Y") -> 118.271 | E25: =_xll.BDH("ALGEV FP Equity","BS_CUR_ASSET_REPORT","FY 2012","FY 2012","Currency=EUR","Period=FY","BEST_FPERIOD_OVERRIDE=FY","FILING_STATUS=MR","SCALING_FORMAT=MLN","Sort=A","Dates=H","DateFormat=P","Fill=—","Direction=H","UseDPDF=Y") -> 119.06 | F25: =_xll.BDH("ALGEV FP Equity","BS_CUR_ASSET_REPORT","FY 2013","FY 2013","Currency=EUR","Period=FY","BEST_FPERIOD_OVERRIDE=FY","FILING_STATUS=MR","SCALING_FORMAT=MLN","Sort=A","Dates=H","DateFormat=P","Fill=—","Direction=H","UseDPDF=Y") -> 151.588 | G25: =_xll.BDH("ALGEV FP Equity","BS_CUR_ASSET_REPORT","FY 2014","FY 2014","Currency=EUR","Period=FY","BEST_FPERIOD_OVERRIDE=FY","FILING_STATUS=MR","SCALING_FORMAT=MLN","Sort=A","Dates=H","DateFormat=P","Fill=—","Direction=H","UseDPDF=Y") -> 254.348 | H25: =_xll.BDH("ALGEV FP Equity","BS_CUR_ASSET_REPORT","FY 2015","FY 2015","Currency=EUR","Period=FY","BEST_FPERIOD_OVERRIDE=FY","FILING_STATUS=MR","SCALING_FORMAT=MLN","Sort=A","Dates=H","DateFormat=P","Fill=—","Direction=H","UseDPDF=Y") -> 238.529 | I25: =_xll.BDH("ALGEV FP Equity","BS_CUR_ASSET_REPORT","FY 2016","FY 2016","Currency=EUR","Period=FY","BEST_FPERIOD_OVERRIDE=FY","FILING_STATUS=MR","SCALING_FORMAT=MLN","Sort=A","Dates=H","DateFormat=P","Fill=—","Direction=H","UseDPDF=Y") -> 268.888 | J25: =_xll.BDH("ALGEV FP Equity","BS_CUR_ASSET_REPORT","FY 2017","FY 2017","Currency=EUR","Period=FY","BEST_FPERIOD_OVERRIDE=FY","FILING_STATUS=MR","SCALING_FORMAT=MLN","Sort=A","Dates=H","DateFormat=P","Fill=—","Direction=H","UseDPDF=Y") -> 254.216 | K25: =_xll.BDH("ALGEV FP Equity","BS_CUR_ASSET_REPORT","FY 2018","FY 2018","Currency=EUR","Period=FY","BEST_FPERIOD_OVERRIDE=FY","FILING_STATUS=MR","SCALING_FORMAT=MLN","Sort=A","Dates=H","DateFormat=P","Fill=—","Direction=H","UseDPDF=Y") -> 244.442 | L25: =_xll.BDH("ALGEV FP Equity","BS_CUR_ASSET_REPORT","FY 2019","FY 2019","Currency=EUR","Period=FY","BEST_FPERIOD_OVERRIDE=FY","FILING_STATUS=MR","SCALING_FORMAT=MLN","Sort=A","Dates=H","DateFormat=P","Fill=—","Direction=H","UseDPDF=Y") -> 243.504
A26: + Propriétés, usines et équipements - Net | B26: BS_NET_FIX_ASSET | C26: =_xll.BDH("ALGEV FP Equity","BS_NET_FIX_ASSET","FY 2010","FY 2010","Currency=EUR","Period=FY","BEST_FPERIOD_OVERRIDE=FY","FILING_STATUS=MR","SCALING_FORMAT=MLN","Sort=A","Dates=H","DateFormat=P","Fill=—","Direction=H","UseDPDF=Y") -> 87.702 | D26: =_xll.BDH("ALGEV FP Equity","BS_NET_FIX_ASSET","FY 2011","FY 2011","Currency=EUR","Period=FY","BEST_FPERIOD_OVERRIDE=FY","FILING_STATUS=MR","SCALING_FORMAT=MLN","Sort=A","Dates=H","DateFormat=P","Fill=—","Direction=H","UseDPDF=Y") -> 84.855 | E26: =_xll.BDH("ALGEV FP Equity","BS_NET_FIX_ASSET","FY 2012","FY 2012","Currency=EUR","Period=FY","BEST_FPERIOD_OVERRIDE=FY","FILING_STATUS=MR","SCALING_FORMAT=MLN","Sort=A","Dates=H","DateFormat=P","Fill=—","Direction=H","UseDPDF=Y") -> 65.99 | F26: =_xll.BDH("ALGEV FP Equity","BS_NET_FIX_ASSET","FY 2013","FY 2013","Currency=EUR","Period=FY","BEST_FPERIOD_OVERRIDE=FY","FILING_STATUS=MR","SCALING_FORMAT=MLN","Sort=A","Dates=H","DateFormat=P","Fill=—","Direction=H","UseDPDF=Y") -> 64.181 | G26: =_xll.BDH("ALGEV FP Equity","BS_NET_FIX_ASSET","FY 2014","FY 2014","Currency=EUR","Period=FY","BEST_FPERIOD_OVERRIDE=FY","FILING_STATUS=MR","SCALING_FORMAT=MLN","Sort=A","Dates=H","DateFormat=P","Fill=—","Direction=H","UseDPDF=Y") -> 75.581 | H26: =_xll.BDH("ALGEV FP Equity","BS_NET_FIX_ASSET","FY 2015","FY 2015","Currency=EUR","Period=FY","BEST_FPERIOD_OVERRIDE=FY","FILING_STATUS=MR","SCALING_FORMAT=MLN","Sort=A","Dates=H","DateFormat=P","Fill=—","Direction=H","UseDPDF=Y") -> 79.209 | I26: =_xll.BDH("ALGEV FP Equity","BS_NET_FIX_ASSET","FY 2016","FY 2016","Currency=EUR","Period=FY","BEST_FPERIOD_OVERRIDE=FY","FILING_STATUS=MR","SCALING_FORMAT=MLN","Sort=A","Dates=H","DateFormat=P","Fill=—","Direction=H","UseDPDF=Y") -> 72.927 | J26: =_xll.BDH("ALGEV FP Equity","BS_NET_FIX_ASSET","FY 2017","FY 2017","Currency=EUR","Period=FY","BEST_FPERIOD_OVERRIDE=FY","FILING_STATUS=MR","SCALING_FORMAT=MLN","Sort=A","Dates=H","DateFormat=P","Fill=—","Direction=H","UseDPDF=Y") -> 32.993 | K26: =_xll.BDH("ALGEV FP Equity","BS_NET_FIX_ASSET","FY 2018","FY 2018","Currency=EUR","Period=FY","BEST_FPERIOD_OVERRIDE=FY","FILING_STATUS=MR","SCALING_FORMAT=MLN","Sort=A","Dates=H","DateFormat=P","Fill=—","Direction=H","UseDPDF=Y") -> 32.612 | L26: =_xll.BDH("ALGEV FP Equity","BS_NET_FIX_ASSET","FY 2019","FY 2019","Currency=EUR","Period=FY","BEST_FPERIOD_OVERRIDE=FY","FILING_STATUS=MR","SCALING_FORMAT=MLN","Sort=A","Dates=H","DateFormat=P","Fill=—","Direction=H","UseDPDF=Y") -> 40.449
A27: + Pptés, usines et équipmt | B27: BS_GROSS_FIX_ASSET | C27: =_xll.BDH("ALGEV FP Equity","BS_GROSS_FIX_ASSET","FY 2010","FY 2010","Currency=EUR","Period=FY","BEST_FPERIOD_OVERRIDE=FY","FILING_STATUS=MR","SCALING_FORMAT=MLN","Sort=A","Dates=H","DateFormat=P","Fill=—","Direction=H","UseDPDF=Y") -> 235.339 | D27: =_xll.BDH("ALGEV FP Equity","BS_GROSS_FIX_ASSET","FY 2011","FY 2011","Currency=EUR","Period=FY","BEST_FPERIOD_OVERRIDE=FY","FILING_STATUS=MR","SCALING_FORMAT=MLN","Sort=A","Dates=H","DateFormat=P","Fill=—","Direction=H","UseDPDF=Y") -> 238.537 | E27: =_xll.BDH("ALGEV FP Equity","BS_GROSS_FIX_ASSET","FY 2012","FY 2012","Currency=EUR","Period=FY","BEST_FPERIOD_OVERRIDE=FY","FILING_STATUS=MR","SCALING_FORMAT=MLN","Sort=A","Dates=H","DateFormat=P","Fill=—","Direction=H","UseDPDF=Y") -> 245.232 | F27: =_xll.BDH("ALGEV FP Equity","BS_GROSS_FIX_ASSET","FY 2013","FY 2013","Currency=EUR","Period=FY","BEST_FPERIOD_OVERRIDE=FY","FILING_STATUS=MR","SCALING_FORMAT=MLN","Sort=A","Dates=H","DateFormat=P","Fill=—","Direction=H","UseDPDF=Y") -> 251.757 | G27: =_xll.BDH("ALGEV FP Equity","BS_GROSS_FIX_ASSET","FY 2014","FY 2014","Currency=EUR","Period=FY","BEST_FPERIOD_OVERRIDE=FY","FILING_STATUS=MR","SCALING_FORMAT=MLN","Sort=A","Dates=H","DateFormat=P","Fill=—","Direction=H","UseDPDF=Y") -> 258.919 | H27: =_xll.BDH("ALGEV FP Equity","BS_GROSS_FIX_ASSET","FY 2015","FY 2015","Currency=EUR","Period=FY","BEST_FPERIOD_OVERRIDE=FY","FILING_STATUS=MR","SCALING_FORMAT=MLN","Sort=A","Dates=H","DateFormat=P","Fill=—","Direction=H","UseDPDF=Y") -> 269.484 | I27: =_xll.BDH("ALGEV FP Equity","BS_GROSS_FIX_ASSET","FY 2016","FY 2016","Currency=EUR","Period=FY","BEST_FPERIOD_OVERRIDE=FY","FILING_STATUS=MR","SCALING_FORMAT=MLN","Sort=A","Dates=H","DateFormat=P","Fill=—","Direction=H","UseDPDF=Y") -> 279.073 | J27: =_xll.BDH("ALGEV FP Equity","BS_GROSS_FIX_ASSET","FY 2017","FY 2017","Currency=EUR","Period=FY","BEST_FPERIOD_OVERRIDE=FY","FILING_STATUS=MR","SCALING_FORMAT=MLN","Sort=A","Dates=H","DateFormat=P","Fill=—","Direction=H","UseDPDF=Y") -> 60.338 | K27: =_xll.BDH("ALGEV FP Equity","BS_GROSS_FIX_ASSET","FY 2018","FY 2018","Currency=EUR","Period=FY","BEST_FPERIOD_OVERRIDE=FY","FILING_STATUS=MR","SCALING_FORMAT=MLN","Sort=A","Dates=H","DateFormat=P","Fill=—","Direction=H","UseDPDF=Y") -> 61.698 | L27: =_xll.BDH("ALGEV FP Equity","BS_GROSS_FIX_ASSET","FY 2019","FY 2019","Currency=EUR","Period=FY","BEST_FPERIOD_OVERRIDE=FY","FILING_STATUS=MR","SCALING_FORMAT=MLN","Sort=A","Dates=H","DateFormat=P","Fill=—","Direction=H","UseDPDF=Y") -> 76.282
A28: - Amortissements cumulés | B28: BS_ACCUM_DEPR | C28: =_xll.BDH("ALGEV FP Equity","BS_ACCUM_DEPR","FY 2010","FY 2010","Currency=EUR","Period=FY","BEST_FPERIOD_OVERRIDE=FY","FILING_STATUS=MR","SCALING_FORMAT=MLN","Sort=A","Dates=H","DateFormat=P","Fill=—","Direction=H","UseDPDF=Y") -> 147.637 | D28: =_xll.BDH("ALGEV FP Equity","BS_ACCUM_DEPR","FY 2011","FY 2011","Currency=EUR","Period=FY","BEST_FPERIOD_OVERRIDE=FY","FILING_STATUS=MR","SCALING_FORMAT=MLN","Sort=A","Dates=H","DateFormat=P","Fill=—","Direction=H","UseDPDF=Y") -> 153.682 | E28: =_xll.BDH("ALGEV FP Equity","BS_ACCUM_DEPR","FY 2012","FY 2012","Currency=EUR","Period=FY","BEST_FPERIOD_OVERRIDE=FY","FILING_STATUS=MR","SCALING_FORMAT=MLN","Sort=A","Dates=H","DateFormat=P","Fill=—","Direction=H","UseDPDF=Y") -> 179.242 | F28: =_xll.BDH("ALGEV FP Equity","BS_ACCUM_DEPR","FY 2013","FY 2013","Currency=EUR","Period=FY","BEST_FPERIOD_OVERRIDE=FY","FILING_STATUS=MR","SCALING_FORMAT=MLN","Sort=A","Dates=H","DateFormat=P","Fill=—","Direction=H","UseDPDF=Y") -> 187.576 | G28: =_xll.BDH("ALGEV FP Equity","BS_ACCUM_DEPR","FY 2014","FY 2014","Currency=EUR","Period=FY","BEST_FPERIOD_OVERRIDE=FY","FILING_STATUS=MR","SCALING_FORMAT=MLN","Sort=A","Dates=H","DateFormat=P","Fill=—","Direction=H","UseDPDF=Y") -> 183.338 | H28: =_xll.BDH("ALGEV FP Equity","BS_ACCUM_DEPR","FY 2015","FY 2015","Currency=EUR","Period=FY","BEST_FPERIOD_OVERRIDE=FY","FILING_STATUS=MR","SCALING_FORMAT=MLN","Sort=A","Dates=H","DateFormat=P","Fill=—","Direction=H","UseDPDF=Y") -> 190.275 | I28: =_xll.BDH("ALGEV FP Equity","BS_ACCUM_DEPR","FY 2016","FY 2016","Currency=EUR","Period=FY","BEST_FPERIOD_OVERRIDE=FY","FILING_STATUS=MR","SCALING_FORMAT=MLN","Sort=A","Dates=H","DateFormat=P","Fill=—","Direction=H","UseDPDF=Y") -> 206.146 | J28: =_xll.BDH("ALGEV FP Equity","BS_ACCUM_DEPR","FY 2017","FY 2017","Currency=EUR","Period=FY","BEST_FPERIOD_OVERRIDE=FY","FILING_STATUS=MR","SCALING_FORMAT=MLN","Sort=A","Dates=H","DateFormat=P","Fill=—","Direction=H","UseDPDF=Y") -> 27.345 | K28: =_xll.BDH("ALGEV FP Equity","BS_ACCUM_DEPR","FY 2018","FY 2018","Currency=EUR","Period=FY","BEST_FPERIOD_OVERRIDE=FY","FILING_STATUS=MR","SCALING_FORMAT=MLN","Sort=A","Dates=H","DateFormat=P","Fill=—","Direction=H","UseDPDF=Y") -> 29.086 | L28: =_xll.BDH("ALGEV FP Equity","BS_ACCUM_DEPR","FY 2019","FY 2019","Currency=EUR","Period=FY","BEST_FPERIOD_OVERRIDE=FY","FILING_STATUS=MR","SCALING_FORMAT=MLN","Sort=A","Dates=H","DateFormat=P","Fill=—","Direction=H","UseDPDF=Y") -> 35.833
A29: + Investissements et comptes clients LT | B29: BS_LT_INVEST | C29: =_xll.BDH("ALGEV FP Equity","BS_LT_INVEST","FY 2010","FY 2010","Currency=EUR","Period=FY","BEST_FPERIOD_OVERRIDE=FY","FILING_STATUS=MR","SCALING_FORMAT=MLN","Sort=A","Dates=H","DateFormat=P","Fill=—","Direction=H","UseDPDF=Y") -> 1.392 | D29: =_xll.BDH("ALGEV FP Equity","BS_LT_INVEST","FY 2011","FY 2011","Currency=EUR","Period=FY","BEST_FPERIOD_OVERRIDE=FY","FILING_STATUS=MR","SCALING_FORMAT=MLN","Sort=A","Dates=H","DateFormat=P","Fill=—","Direction=H","UseDPDF=Y") -> 1.292 | E29: =_xll.BDH("ALGEV FP Equity","BS_LT_INVEST","FY 2012","FY 2012","Currency=EUR","Period=FY","BEST_FPERIOD_OVERRIDE=FY","FILING_STATUS=MR","SCALING_FORMAT=MLN","Sort=A","Dates=H","DateFormat=P","Fill=—","Direction=H","UseDPDF=Y") -> 1.482 | F29: =_xll.BDH("ALGEV FP Equity","BS_LT_INVEST","FY 2013","FY 2013","Currency=EUR","Period=FY","BEST_FPERIOD_OVERRIDE=FY","FILING_STATUS=MR","SCALING_FORMAT=MLN","Sort=A","Dates=H","DateFormat=P","Fill=—","Direction=H","UseDPDF=Y") -> 1.632 | G29: =_xll.BDH("ALGEV FP Equity","BS_LT_INVEST","FY 2014","FY 2014","Currency=EUR","Period=FY","BEST_FPERIOD_OVERRIDE=FY","FILING_STATUS=MR","SCALING_FORMAT=MLN","Sort=A","Dates=H","DateFormat=P","Fill=—","Direction=H","UseDPDF=Y") -> 1.661 | H29: =_xll.BDH("ALGEV FP Equity","BS_LT_INVEST","FY 2015","FY 2015","Currency=EUR","Period=FY","BEST_FPERIOD_OVERRIDE=FY","FILING_STATUS=MR","SCALING_FORMAT=MLN","Sort=A","Dates=H","DateFormat=P","Fill=—","Direction=H","UseDPDF=Y") -> 1.534 | I29: =_xll.BDH("ALGEV FP Equity","BS_LT_INVEST","FY 2016","FY 2016","Currency=EUR","Period=FY","BEST_FPERIOD_OVERRIDE=FY","FILING_STATUS=MR","SCALING_FORMAT=MLN","Sort=A","Dates=H","DateFormat=P","Fill=—","Direction=H","UseDPDF=Y") -> 1.492 | J29: =_xll.BDH("ALGEV FP Equity","BS_LT_INVEST","FY 2017","FY 2017","Currency=EUR","Period=FY","BEST_FPERIOD_OVERRIDE=FY","FILING_STATUS=MR","SCALING_FORMAT=MLN","Sort=A","Dates=H","DateFormat=P","Fill=—","Direction=H","UseDPDF=Y") -> 0.449 | K29: =_xll.BDH("ALGEV FP Equity","BS_LT_INVEST","FY 2018","FY 2018","Currency=EUR","Period=FY","BEST_FPERIOD_OVERRIDE=FY","FILING_STATUS=MR","SCALING_FORMAT=MLN","Sort=A","Dates=H","DateFormat=P","Fill=—","Direction=H","UseDPDF=Y") -> 0.42 | L29: =_xll.BDH("ALGEV FP Equity","BS_LT_INVEST","FY 2019","FY 2019","Currency=EUR","Period=FY","BEST_FPERIOD_OVERRIDE=FY","FILING_STATUS=MR","SCALING_FORMAT=MLN","Sort=A","Dates=H","DateFormat=P","Fill=—","Direction=H","UseDPDF=Y") -> 0.486
A30: + Investissements LT | B30: BS_LONG_TERM_INVESTMENTS | C30: 0 | D30: 0 | E30: 0 | F30: 0 | G30: 0 | H30: 0 | I30: =_xll.BDH("ALGEV FP Equity","BS_LONG_TERM_INVESTMENTS","FY 2016","FY 2016","Currency=EUR","Period=FY","BEST_FPERIOD_OVERRIDE=FY","FILING_STATUS=MR","SCALING_FORMAT=MLN","Sort=A","Dates=H","DateFormat=P","Fill=—","Direction=H","UseDPDF=Y") -> 1.184 | J30: =_xll.BDH("ALGEV FP Equity","BS_LONG_TERM_INVESTMENTS","FY 2017","FY 2017","Currency=EUR","Period=FY","BEST_FPERIOD_OVERRIDE=FY","FILING_STATUS=MR","SCALING_FORMAT=MLN","Sort=A","Dates=H","DateFormat=P","Fill=—","Direction=H","UseDPDF=Y") -> 0.26 | K30: =_xll.BDH("ALGEV FP Equity","BS_LONG_TERM_INVESTMENTS","FY 2018","FY 2018","Currency=EUR","Period=FY","BEST_FPERIOD_OVERRIDE=FY","FILING_STATUS=MR","SCALING_FORMAT=MLN","Sort=A","Dates=H","DateFormat=P","Fill=—","Direction=H","UseDPDF=Y") -> 0.252 | L30: =_xll.BDH("ALGEV FP Equity","BS_LONG_TERM_INVESTMENTS","FY 2019","FY 2019","Currency=EUR","Period=FY","BEST_FPERIOD_OVERRIDE=FY","FILING_STATUS=MR","SCALING_FORMAT=MLN","Sort=A","Dates=H","DateFormat=P","Fill=—","Direction=H","UseDPDF=Y") -> 0.336
A31: + Comptes clients LT | B31: BS_LT_RECEIVABLES | C31: 0 | D31: 0 | E31: 0 | F31: 0 | G31: 0 | H31: 0 | I31: =_xll.BDH("ALGEV FP Equity","BS_LT_RECEIVABLES","FY 2016","FY 2016","Currency=EUR","Period=FY","BEST_FPERIOD_OVERRIDE=FY","FILING_STATUS=MR","SCALING_FORMAT=MLN","Sort=A","Dates=H","DateFormat=P","Fill=—","Direction=H","UseDPDF=Y") -> 0.308 | J31: =_xll.BDH("ALGEV FP Equity","BS_LT_RECEIVABLES","FY 2017","FY 2017","Currency=EUR","Period=FY","BEST_FPERIOD_OVERRIDE=FY","FILING_STATUS=MR","SCALING_FORMAT=MLN","Sort=A","Dates=H","DateFormat=P","Fill=—","Direction=H","UseDPDF=Y") -> 0.189 | K31: =_xll.BDH("ALGEV FP Equity","BS_LT_RECEIVABLES","FY 2018","FY 2018","Currency=EUR","Period=FY","BEST_FPERIOD_OVERRIDE=FY","FILING_STATUS=MR","SCALING_FORMAT=MLN","Sort=A","Dates=H","DateFormat=P","Fill=—","Direction=H","UseDPDF=Y") -> 0.168 | L31: =_xll.BDH("ALGEV FP Equity","BS_LT_RECEIVABLES","FY 2019","FY 2019","Currency=EUR","Period=FY","BEST_FPERIOD_OVERRIDE=FY","FILING_STATUS=MR","SCALING_FORMAT=MLN","Sort=A","Dates=H","DateFormat=P","Fill=—","Direction=H","UseDPDF=Y") -> 0.15
A32: + Autres actifs LT | B32: BS_OTHER_ASSETS_DEF_CHRG_OTHER | C32: =_xll.BDH("ALGEV FP Equity","BS_OTHER_ASSETS_DEF_CHRG_OTHER","FY 2010","FY 2010","Currency=EUR","Period=FY","BEST_FPERIOD_OVERRIDE=FY","FILING_STATUS=MR","SCALING_FORMAT=MLN","Sort=A","Dates=H","DateFormat=P","Fill=—","Direction=H","UseDPDF=Y") -> 15.191 | D32: =_xll.BDH("ALGEV FP Equity","BS_OTHER_ASSETS_DEF_CHRG_OTHER","FY 2011","FY 2011","Currency=EUR","Period=FY","BEST_FPERIOD_OVERRIDE=FY","FILING_STATUS=MR","SCALING_FORMAT=MLN","Sort=A","Dates=H","DateFormat=P","Fill=—","Direction=H","UseDPDF=Y") -> 20.173 | E32: =_xll.BDH("ALGEV FP Equity","BS_OTHER_ASSETS_DEF_CHRG_OTHER","FY 2012","FY 2012","Currency=EUR","Period=FY","BEST_FPERIOD_OVERRIDE=FY","FILING_STATUS=MR","SCALING_FORMAT=MLN","Sort=A","Dates=H","DateFormat=P","Fill=—","Direction=H","UseDPDF=Y") -> 16.2 | F32: =_xll.BDH("ALGEV FP Equity","BS_OTHER_ASSETS_DEF_CHRG_OTHER","FY 2013","FY 2013","Currency=EUR","Period=FY","BEST_FPERIOD_OVERRIDE=FY","FILING_STATUS=MR","SCALING_FORMAT=MLN","Sort=A","Dates=H","DateFormat=P","Fill=—","Direction=H","UseDPDF=Y") -> 5.8 | G32: =_xll.BDH("ALGEV FP Equity","BS_OTHER_ASSETS_DEF_CHRG_OTHER","FY 2014","FY 2014","Currency=EUR","Period=FY","BEST_FPERIOD_OVERRIDE=FY","FILING_STATUS=MR","SCALING_FORMAT=MLN","Sort=A","Dates=H","DateFormat=P","Fill=—","Direction=H","UseDPDF=Y") -> 9.831 | H32: =_xll.BDH("ALGEV FP Equity","BS_OTHER_ASSETS_DEF_CHRG_OTHER","FY 2015","FY 2015","Currency=EUR","Period=FY","BEST_FPERIOD_OVERRIDE=FY","FILING_STATUS=MR","SCALING_FORMAT=MLN","Sort=A","Dates=H","DateFormat=P","Fill=—","Direction=H","UseDPDF=Y") -> 5.435 | I32: =_xll.BDH("ALGEV FP Equity","BS_OTHER_ASSETS_DEF_CHRG_OTHER","FY 2016","FY 2016","Currency=EUR","Period=FY","BEST_FPERIOD_OVERRIDE=FY","FILING_STATUS=MR","SCALING_FORMAT=MLN","Sort=A","Dates=H","DateFormat=P","Fill=—","Direction=H","UseDPDF=Y") -> 8.459 | J32: =_xll.BDH("ALGEV FP Equity","BS_OTHER_ASSETS_DEF_CHRG_OTHER","FY 2017","FY 2017","Currency=EUR","Period=FY","BEST_FPERIOD_OVERRIDE=FY","FILING_STATUS=MR","SCALING_FORMAT=MLN","Sort=A","Dates=H","DateFormat=P","Fill=—","Direction=H","UseDPDF=Y") -> 3.313 | K32: =_xll.BDH("ALGEV FP Equity","BS_OTHER_ASSETS_DEF_CHRG_OTHER","FY 2018","FY 2018","Currency=EUR","Period=FY","BEST_FPERIOD_OVERRIDE=FY","FILING_STATUS=MR","SCALING_FORMAT=MLN","Sort=A","Dates=H","DateFormat=P","Fill=—","Direction=H","UseDPDF=Y") -> 3.072 | L32: =_xll.BDH("ALGEV FP Equity","BS_OTHER_ASSETS_DEF_CHRG_OTHER","FY 2019","FY 2019","Currency=EUR","Period=FY","BEST_FPERIOD_OVERRIDE=FY","FILING_STATUS=MR","SCALING_FORMAT=MLN","Sort=A","Dates=H","DateFormat=P","Fill=—","Direction=H","UseDPDF=Y") -> 11.928
A33: + Total des actifs incorporels | B33: BS_DISCLOSED_INTANGIBLES | C33: =_xll.BDH("ALGEV FP Equity","BS_DISCLOSED_INTANGIBLES","FY 2010","FY 2010","Currency=EUR","Period=FY","BEST_FPERIOD_OVERRIDE=FY","FILING_STATUS=MR","SCALING_FORMAT=MLN","Sort=A","Dates=H","DateFormat=P","Fill=—","Direction=H","UseDPDF=Y") -> 5.661 | D33: =_xll.BDH("ALGEV FP Equity","BS_DISCLOSED_INTANGIBLES","FY 2011","FY 2011","Currency=EUR","Period=FY","BEST_FPERIOD_OVERRIDE=FY","FILING_STATUS=MR","SCALING_FORMAT=MLN","Sort=A","Dates=H","DateFormat=P","Fill=—","Direction=H","UseDPDF=Y") -> 6.294 | E33: =_xll.BDH("ALGEV FP Equity","BS_DISCLOSED_INTANGIBLES","FY 2012","FY 2012","Currency=EUR","Period=FY","BEST_FPERIOD_OVERRIDE=FY","FILING_STATUS=MR","SCALING_FORMAT=MLN","Sort=A","Dates=H","DateFormat=P","Fill=—","Direction=H","UseDPDF=Y") -> 11.407 | F33: =_xll.BDH("ALGEV FP Equity","BS_DISCLOSED_INTANGIBLES","FY 2013","FY 2013","Currency=EUR","Period=FY","BEST_FPERIOD_OVERRIDE=FY","FILING_STATUS=MR","SCALING_FORMAT=MLN","Sort=A","Dates=H","DateFormat=P","Fill=—","Direction=H","UseDPDF=Y") -> 5.8 | G33: =_xll.BDH("ALGEV FP Equity","BS_DISCLOSED_INTANGIBLES","FY 2014","FY 2014","Currency=EUR","Period=FY","BEST_FPERIOD_OVERRIDE=FY","FILING_STATUS=MR","SCALING_FORMAT=MLN","Sort=A","Dates=H","DateFormat=P","Fill=—","Direction=H","UseDPDF=Y") -> 9.831 | H33: =_xll.BDH("ALGEV FP Equity","BS_DISCLOSED_INTANGIBLES","FY 2015","FY 2015","Currency=EUR","Period=FY","BEST_FPERIOD_OVERRIDE=FY","FILING_STATUS=MR","SCALING_FORMAT=MLN","Sort=A","Dates=H","DateFormat=P","Fill=—","Direction=H","UseDPDF=Y") -> 5.435 | I33: =_xll.BDH("ALGEV FP Equity","BS_DISCLOSED_INTANGIBLES","FY 2016","FY 2016","Currency=EUR","Period=FY","BEST_FPERIOD_OVERRIDE=FY","FILING_STATUS=MR","SCALING_FORMAT=MLN","Sort=A","Dates=H","DateFormat=P","Fill=—","Direction=H","UseDPDF=Y") -> 6.337 | J33: =_xll.BDH("ALGEV FP Equity","BS_DISCLOSED_INTANGIBLES","FY 2017","FY 2017","Currency=EUR","Period=FY","BEST_FPERIOD_OVERRIDE=FY","FILING_STATUS=MR","SCALING_FORMAT=MLN","Sort=A","Dates=H","DateFormat=P","Fill=—","Direction=H","UseDPDF=Y") -> 3.056 | K33: =_xll.BDH("ALGEV FP Equity","BS_DISCLOSED_INTANGIBLES","FY 2018","FY 2018","Currency=EUR","Period=FY","BEST_FPERIOD_OVERRIDE=FY","FILING_STATUS=MR","SCALING_FORMAT=MLN","Sort=A","Dates=H","DateFormat=P","Fill=—","Direction=H","UseDPDF=Y") -> 2.886 | L33: =_xll.BDH("ALGEV FP Equity","BS_DISCLOSED_INTANGIBLES","FY 2019","FY 2019","Currency=EUR","Period=FY","BEST_FPERIOD_OVERRIDE=FY","FILING_STATUS=MR","SCALING_FORMAT=MLN","Sort=A","Dates=H","DateFormat=P","Fill=—","Direction=H","UseDPDF=Y") -> 11.564
A34: + Goodwill | B34: BS_GOODWILL | C34: =_xll.BDH("ALGEV FP Equity","BS_GOODWILL","FY 2010","FY 2010","Currency=EUR","Period=FY","BEST_FPERIOD_OVERRIDE=FY","FILING_STATUS=MR","SCALING_FORMAT=MLN","Sort=A","Dates=H","DateFormat=P","Fill=—","Direction=H","UseDPDF=Y") -> 0.923 | D34: =_xll.BDH("ALGEV FP Equity","BS_GOODWILL","FY 2011","FY 2011","Currency=EUR","Period=FY","BEST_FPERIOD_OVERRIDE=FY","FILING_STATUS=MR","SCALING_FORMAT=MLN","Sort=A","Dates=H","DateFormat=P","Fill=—","Direction=H","UseDPDF=Y") -> 0.95 | E34: =_xll.BDH("ALGEV FP Equity","BS_GOODWILL","FY 2012","FY 2012","Currency=EUR","Period=FY","BEST_FPERIOD_OVERRIDE=FY","FILING_STATUS=MR","SCALING_FORMAT=MLN","Sort=A","Dates=H","DateFormat=P","Fill=—","Direction=H","UseDPDF=Y") -> 0.973 | F34: =_xll.BDH("ALGEV FP Equity","BS_GOODWILL","FY 2013","FY 2013","Currency=EUR","Period=FY","BEST_FPERIOD_OVERRIDE=FY","FILING_STATUS=MR","SCALING_FORMAT=MLN","Sort=A","Dates=H","DateFormat=P","Fill=—","Direction=H","UseDPDF=Y") -> 0.952 | G34: =_xll.BDH("ALGEV FP Equity","BS_GOODWILL","FY 2014","FY 2014","Currency=EUR","Period=FY","BEST_FPERIOD_OVERRIDE=FY","FILING_STATUS=MR","SCALING_FORMAT=MLN","Sort=A","Dates=H","DateFormat=P","Fill=—","Direction=H","UseDPDF=Y") -> 5.189 | H34: =_xll.BDH("ALGEV FP Equity","BS_GOODWILL","FY 2015","FY 2015","Currency=EUR","Period=FY","BEST_FPERIOD_OVERRIDE=FY","FILING_STATUS=MR","SCALING_FORMAT=MLN","Sort=A","Dates=H","DateFormat=P","Fill=—","Direction=H","UseDPDF=Y") -> 1.082 | I34: =_xll.BDH("ALGEV FP Equity","BS_GOODWILL","FY 2016","FY 2016","Currency=EUR","Period=FY","BEST_FPERIOD_OVERRIDE=FY","FILING_STATUS=MR","SCALING_FORMAT=MLN","Sort=A","Dates=H","DateFormat=P","Fill=—","Direction=H","UseDPDF=Y") -> 1.827 | J34: =_xll.BDH("ALGEV FP Equity","BS_GOODWILL","FY 2017","FY 2017","Currency=EUR","Period=FY","BEST_FPERIOD_OVERRIDE=FY","FILING_STATUS=MR","SCALING_FORMAT=MLN","Sort=A","Dates=H","DateFormat=P","Fill=—","Direction=H","UseDPDF=Y") -> 1.795 | K34: =_xll.BDH("ALGEV FP Equity","BS_GOODWILL","FY 2018","FY 2018","Currency=EUR","Period=FY","BEST_FPERIOD_OVERRIDE=FY","FILING_STATUS=MR","SCALING_FORMAT=MLN","Sort=A","Dates=H","DateFormat=P","Fill=—","Direction=H","UseDPDF=Y") -> 1.788 | L34: =_xll.BDH("ALGEV FP Equity","BS_GOODWILL","FY 2019","FY 2019","Currency=EUR","Period=FY","BEST_FPERIOD_OVERRIDE=FY","FILING_STATUS=MR","SCALING_FORMAT=MLN","Sort=A","Dates=H","DateFormat=P","Fill=—","Direction=H","UseDPDF=Y") -> 10.062
