Workbook

Sheet Ingles Stores
A1: Ingles Core Supermarket Property Data
A2: Address | B2: Link | C2: Image | D2: Rating /5 | E2: Renovated y/n | F2: Gas Station y/n | G2: Carwash y/n | H2: Starbucks y/n | I2: Acres | J2: Improved Square Feet | K2: Market Appraisal | L2: Land value | M2: Appraised Value/Acre | N2: Year Built/Acquired | O2: Depreciation Rate Yrs | P2: Depreciated % | Q2: Market Appr. Sub-Land | R2: Improved Depreciated | S2: Improved less Depr. | T2: Net Improved + Land | U2: Population | V2: Notes
A3: 917 Decator Pike Athens, TN 37303 | B3: Link | C3: Link | D3: 4.4 | E3: y | F3: y | G3: n | H3: y | I3: Not Owned | J3: Not Owned | K3: Not Owned | L3: Not Owned | M3: Not Owned | N3: Not Owned | O3: Not Owned | P3: Not Owned | Q3: Not Owned | R3: Not Owned | S3: Not Owned | T3: Not Owned | U3: 14371 | V3: Link (property brochure)
A4: 904 South Main St Sweetwater, TN 37874 | B4: Link | C4: Link | D4: 4.4 | E4: n | F4: n | G4: n | H4: n | I4: 4.05 | J4: 42749 | K4: 2475200 | L4: 753700 | M4: =K4/I4 -> 611160.49 | N4: 1993 | O4: =N4-2023 -> -30 | P4: =O4/30 -> -1 | Q4: =K4-L4 -> 1721500 | R4: =Q4*P4 -> -1721500 | S4: =R4+Q4 -> 0 | T4: =S4+L4 -> 753700 | U4: 6451
A5: 7466 Oak Ridge Hwy Knoxville, TN 37931 | B5: Link | C5: Link | D5: 4.3 | E5: n | F5: y | G5: n | H5: y | I5: 13.09 | J5: ND | K5: 5669600 | L5: 901247 | M5: =K5/I5 -> 433124.52 | N5: 2001 | O5: =N5-2023 -> -22 | P5: =O5/30 -> -0.73333333 | Q5: =K5-L5 -> 4768353 | R5: =Q5*P5 -> -3496792.2 | S5: =R5+Q5 -> 1271560.8 | T5: =S5+L5 -> 2172807.8 | U5: 195889
A6: 404 Hwy 321 N, Unit 1 Lenoir City, TN 37771 | B6: Link | C6: Link | D6: 4.4 | E6: y | F6: n | G6: n | H6: y | I6: 12.03 | J6: 72129 | K6: 10959400 | L6: 1474600 | M6: =K6/I6 -> 911005.82 | N6: 2016 | O6: =N6-2023 -> -7 | P6: =O6/30 -> -0.23333333 | Q6: =K6-L6 -> 9484800 | R6: =Q6*P6 -> -2213120 | S6: =R6+Q6 -> 7271680 | T6: =S6+L6 -> 8746280 | U6: 11292
A7: 11847 Kingston Pike Farragut, TN 37934 | B7: Link | C7: Link | D7: 4.4 | E7: y | F7: y | G7: y | H7: y | I7: 19.71 | J7: 44800 | K7: 12862500 | L7: 3252150 | M7: =K7/I7 -> 652587.52 | N7: 1983 | O7: =N7-2023 -> -40 | P7: -1 | Q7: =K7-L7 -> 9610350 | R7: =Q7*P7 -> -9610350 | S7: =R7+Q7 -> 0 | T7: =S7+L7 -> 3252150 | U7: 24817
A8: 430 Emory Rd Powell, TN 37849 | B8: Link | C8: Link | D8: 4.4 | E8: y | F8: y | G8: n | H8: y | I8: 42.68 | J8: 36839 | K8: 10499800 | L8: 4880260 | M8: =K8/I8 -> 246012.18 | N8: 1996 | O8: =N8-2023 -> -27 | P8: =O8/30 -> -0.9 | Q8: =K8-L8 -> 5619540 | R8: =Q8*P8 -> -5057586 | S8: =R8+Q8 -> 561954 | T8: =S8+L8 -> 5442214 | U8: 13802
A9: 962 G.I. Maddox Pkwy. Chatsworth, GA 30705 | B9: Link | C9: Link | D9: 4.5 | E9: y | F9: y | G9: n | H9: y | I9: 18.63 | J9: ND | K9: 3677000 | L9: 719900 | M9: =K9/I9 -> 197369.83 | N9: 2003 | O9: =N9-2023 -> -20 | P9: =O9/30 -> -0.66666667 | Q9: =K9-L9 -> 2957100 | R9: =Q9*P9 -> -1971400 | S9: =R9+Q9 -> 985700 | T9: =S9+L9 -> 1705600 | U9: 4871
A10: 3980 W Andrew Johnson Hwy Morristown, TN 37814 | B10: Link | C10: Link | D10: 4.4 | E10: y | F10: y | G10: n | H10: y | I10: 38.51 | J10: 64439 | K10: 7570100 | L10: 3574500 | M10: =K10/I10 -> 196574.92 | N10: 1996 | O10: =N10-2023 -> -27 | P10: =O10/30 -> -0.9 | Q10: =K10-L10 -> 3995600 | R10: =Q10*P10 -> -3596040 | S10: =R10+Q10 -> 399560 | T10: =S10+L10 -> 3974060 | U10: 31425 | V10: Image of comps, huge store/land; 38.5 acres, 64,439 sqft. 31.4K pop (10%+~ >2008)
A11: 5679 Appalachian Hwy Blue Ridge, GA 30513 | B11: Link | C11: Link | D11: 4.4 | E11: y | F11: y | G11: n | H11: y | I11: 14.06 | J11: 80284 | K11: 10293839 | L11: 888596 | M11: =K11/I11 -> 732136.49 | N11: 2007 | O11: =N11-2023 -> -16 | P11: =O11/30 -> -0.53333333 | Q11: =K11-L11 -> 9405243 | R11: =Q11*P11 -> -5016129.6 | S11: =R11+Q11 -> 4389113.4 | T11: =S11+L11 -> 5277709.4 | U11: 1226
A12: 100 Old Orchard Sq Ellijay, GA 30540 | B12: Link | C12: Link | D12: 4.5 | E12: y | F12: n | G12: n | H12: y | I12: Not Owned | J12: ND | K12: Not Owned | L12: Not Owned | M12: Not Owned | N12: Not Owned | O12: Not Owned | P12: Not Owned | Q12: Not Owned | R12: Not Owned | S12: Not Owned | T12: Not Owned | U12: 1927
A13: 2060 Hwy 19 Murphy, NC 28906 | B13: Link | C13: Link | D13: 4.4 | E13: y | F13: n | G13: n | H13: y | I13: 1 | J13: ND | K13: 4881910 | L13: 3rd party borked | M13: =K13/I13 -> 4881910 | N13: No data | O13: No data | P13: No data | Q13: No data | R13: No data | S13: No data | T13: No data | U13: 1639
A14: 100 Nathan Dean Bypass, Rockmart, GA 30153 | B14: Link | C14: Link | D14: 4.3 | E14: n | F14: n | G14: n | H14: n | I14: 8.18 | J14: 44653 | K14: 2696863 | L14: 543684 | M14: =K14/I14 -> 329689.85 | N14: 1994 | O14: =N14-2023 -> -29 | P14: =O14/30 -> -0.96666667 | Q14: =K14-L14 -> 2153179 | R14: =Q14*P14 -> -2081406.4 | S14: =R14+Q14 -> 71772.633 | T14: =S14+L14 -> 615456.63 | U14: 5249
A15: 879 Joe Frank Harris Pkwy Cartersville, GA 30120 | B15: Link | C15: Link | D15: 4.4 | E15: y | F15: y | G15: n | H15: y | I15: 10.88 | J15: ND | K15: 12350000 | L15: 997556 | M15: =K15/I15 -> 1135110.3 | N15: 1983 | O15: =N15-2023 -> -40 | P15: -1 | Q15: =K15-L15 -> 11352444 | R15: =Q15*P15 -> -11352444 | S15: =R15+Q15 -> 0 | T15: =S15+L15 -> 997556 | U15: 23904
A16: 825 West Avenue W. Cartersville, GA 30120 | B16: Link | C16: Link | D16: 4.4 | E16: y | F16: y | G16: n | H16: y | I16: 18.97 | J16: 67579 | K16: 11521554 | L16: 5746250 | M16: =K16/I16 -> 607356.56 | N16: 2000 | O16: =N16-2023 -> -23 | P16: =O16/30 -> -0.76666667 | Q16: =K16-L16 -> 5775304 | R16: =Q16*P16 -> -4427733.1 | S16: =R16+Q16 -> 1347570.9 | T16: =S16+L16 -> 7093820.9 | U16: 23904
A17: 1449 West Church St Jasper, GA 30143 | B17: Link | C17: Link | D17: 4.5 | E17: n | F17: y | G17: n | H17: y | I17: 6.34 | J17: 82500 | K17: 5345117 | L17: 570000 | M17: =K17/I17 -> 843078.39 | N17: 2002 | O17: =N17-2023 -> -21 | P17: =O17/30 -> -0.7 | Q17: =K17-L17 -> 4775117 | R17: =Q17*P17 -> -3342581.9 | S17: =R17+Q17 -> 1432535.1 | T17: =S17+L17 -> 2002535.1 | U17: 4520
A18: 2845 E Andrew Johnson Hwy Greeneville, TN 37745 | B18: Link | C18: Link | D18: 4.5 | E18: n | F18: y | G18: n | H18: y | I18: 11.63 | J18: 76554 | K18: 9218800 | L18: 1831600 | M18: =K18/I18 -> 792674.12 | N18: 2016 | O18: =N18-2023 -> -7 | P18: =O18/30 -> -0.23333333 | Q18: =K18-L18 -> 7387200 | R18: =Q18*P18 -> -1723680 | S18: =R18+Q18 -> 5663520 | T18: =S18+L18 -> 7495120 | U18: 15614 | V18: Sqft breakdown: Grocery store (70,352), Strip mall (6,202)
A19: 4345 Fort Henry Dr Kingsport, TN 37663 | B19: Link | C19: Link | D19: 4.4 | E19: y | F19: y | G19: n | H19: y | I19: 14.28 | J19: 55504 | K19: =4247400 -> 4247400 | L19: 1312700 | M19: =K19/I19 -> 297436.97 | N19: 1996 | O19: =N19-2023 -> -27 | P19: =O19/30 -> -0.9 | Q19: =K19-L19 -> 2934700 | R19: =Q19*P19 -> -2641230 | S19: =R19+Q19 -> 293470 | T19: =S19+L19 -> 1606170 | U19: 56150
A20: 230 Hwy 64 East Hayesville, NC 28904 | B20: Link | C20: Link | D20: 4.4 | E20: y | F20: y | G20: n | H20: y | I20: 9.64 | J20: ND | K20: 7743700 | L20: 1374000 | M20: =K20/I20 -> 803288.38 | N20: 2016 | O20: =N20-2023 -> -7 | P20: =O20/30 -> -0.23333333 | Q20: =K20-L20 -> 6369700 | R20: =Q20*P20 -> -1486263.3 | S20: =R20+Q20 -> 4883436.7 | T20: =S20+L20 -> 6257436.7 | U20: 629
A21: 207B Hwy 515 Blairsville, GA 30512 | B21: Link | C21: Link | D21: 4.5 | E21: y | F21: y | G21: n | H21: y | I21: 7.65 | J21: 109127 | K21: 11069900 | L21: 1895665 | M21: =K21/I21 -> 1447045.8 | N21: 2010 | O21: =N21-2023 -> -13 | P21: =O21/30 -> -0.43333333 | Q21: =K21-L21 -> 9174235 | R21: =Q21*P21 -> -3975501.8 | S21: =R21+Q21 -> 5198733.2 | T21: =S21+L21 -> 7094398.2 | U21: 760
A22: 2865 Music Mill Road Bremen, GA 30110 | B22: Link | C22: Link | D22: 4.5 | E22: y | F22: y | G22: n | H22: y | I22: 12.85 | J22: 86316 | K22: 7392097 | L22: 1891672 | M22: =K22/I22 -> 575260.47 | N22: 2008 | O22: =N22-2023 -> -15 | P22: =O22/30 -> -0.5 | Q22: =K22-L22 -> 5500425 | R22: =Q22*P22 -> -2750212.5 | S22: =R22+Q22 -> 2750212.5 | T22: =S22+L22 -> 4641884.5 | U22: 7746
A23: 5055 Cherokee Street Acworth, GA 30101 | B23: Link | C23: Link | D23: 4.3 | E23: y | F23: n | G23: n | H23: n | I23: 15.376 | J23: ND | K23: 6193500 | L23: 3956680 | M23: =K23/I23 -> 402803.07 | N23: 1997 | O23: =N23-2023 -> -26 | P23: =O23/30 -> -0.86666667 | Q23: =K23-L23 -> 2236820 | R23: =Q23*P23 -> -1938577.3 | S23: =R23+Q23 -> 298242.67 | T23: =S23+L23 -> 4254922.7 | U23: 22276
A24: 488 Carrolton St Temple, GA 30179 | B24: Link | C24: Link | D24: 4.4 | E24: y | F24: y | G24: n | H24: y | I24: 11.21 | J24: 83083 | K24: 13558458 | L24: 1208801 | M24: =K24/I24 -> 1209496.7 | N24: 2008 | O24: =N24-2023 -> -15 | P24: =O24/30 -> -0.5 | Q24: =K24-L24 -> 12349657 | R24: =Q24*P24 -> -6174828.5 | S24: =R24+Q24 -> 6174828.5 | T24: =S24+L24 -> 7383629.5 | U24: 6274 | V24: Competing store, population 6,200 (+50%~ >2008)
A25: 104 Riverstone Pkwy Canton, GA 30114 | B25: Link | C25: Link | D25: 4.4 | E25: n | F25: y | G25: n | H25: n | I25: Not Owned | J25: Not Owned | K25: Not Owned | L25: Not Owned | M25: Not Owned | N25: Not Owned | O25: Not Owned | P25: Not Owned | Q25: Not Owned | R25: Not Owned | S25: Not Owned | T25: Not Owned | U25: 35809
A26: 1200 W Jackson Blvd Jonesborough, TN 37659 | B26: Link | C26: Link | D26: 4.4 | E26: y | F26: y | G26: n | H26: y | I26: 15.37 | J26: 58642 | K26: 5064900 | L26: 1726500 | M26: =K26/I26 -> 329531.55 | N26: 1997 | O26: =N26-2023 -> -26 | P26: =O26/30 -> -0.86666667 | Q26: =K26-L26 -> 3338400 | R26: =Q26*P26 -> -2893280 | S26: =R26+Q26 -> 445120 | T26: =S26+L26 -> 2171620 | U26: 6172
A27: 4470 N. Roan Street Johnson City, TN 37615 | B27: Link | C27: Link | D27: 4.4 | E27: y | F27: y | G27: n | H27: y | I27: 24.6 | J27: 69929 | K27: 6200000 | L27: 1850700 | M27: =K27/I27 -> 252032.52 | N27: 2000 | O27: =N27-2023 -> -23 | P27: =O27/30 -> -0.76666667 | Q27: =K27-L27 -> 4349300 | R27: =Q27*P27 -> -3334463.3 | S27: =R27+Q27 -> 1014836.7 | T27: =S27+L27 -> 2865536.7 | U27: 72514
A28: 270 Merchants Square Dr Dallas, GA 30132 | B28: Link | C28: Link | D28: 4.4 | E28: n | F28: n | G28: n | H28: y | I28: Not Owned | J28: Not Owned | K28: Not Owned | L28: Not Owned | M28: Not Owned | N28: Not Owned | O28: Not Owned | P28: Not Owned | Q28: Not Owned | R28: Not Owned | S28: Not Owned | T28: Not Owned | U28: 14763
A29: 94 N. Main Street Hiawassee, GA 30546 | B29: Link | C29: Link | D29: 4.4 | E29: y | F29: y | G29: n | H29: y | I29: 7.555 | J29: 56477 | K29: 3936675 | L29: 1510000 | M29: =K29/I29 -> 521068.83 | N29: 1997 | O29: =N29-2023 -> -26 | P29: =O29/30 -> -0.86666667 | Q29: =K29-L29 -> 2426675 | R29: =Q29*P29 -> -2103118.3 | S29: =R29+Q29 -> 323556.67 | T29: =S29+L29 -> 1833556.7 | U29: 1017
A30: 1124 N Park St Carrolton, GA 30117 | B30: Link | C30: Link | D30: 4.4 | E30: n | F30: n | G30: n | H30: n | I30: Not Owned | J30: Not Owned | K30: Not Owned | L30: Not Owned | M30: Not Owned | N30: Not Owned | O30: Not Owned | P30: Not Owned | Q30: Not Owned | R30: Not Owned | S30: Not Owned | T30: Not Owned | U30: 27262
A31: 1817 Dallas-Nebo Road Douglasville, GA 30134 | B31: Link | C31: Link | D31: 4.4 | E31: n | F31: y | G31: n | H31: n | I31: 19.44 | J31: 93169 | K31: 11579510 | L31: 2430000 | M31: =K31/I31 -> 595653.81 | N31: 2008 | O31: =N31-2023 -> -15 | P31: =O31/30 -> -0.5 | Q31: =K31-L31 -> 9149510 | R31: =Q31*P31 -> -4574755 | S31: =R31+Q31 -> 4574755 | T31: =S31+L31 -> 7004755 | U31: 37948
A32: 327 Holly Springs Plaza Franklin, NC 28734 | B32: Link | C32: Link | D32: 4.3 | E32: n | F32: y | G32: n | H32: y | I32: 19.92 | J32: ND | K32: 18709410 | L32: 3585600 | M32: =K32/I32 -> 939227.41 | N32: 2015 | O32: =N32-2023 -> -8 | P32: =O32/30 -> -0.26666667 | Q32: =K32-L32 -> 15123810 | R32: =Q32*P32 -> -4033016 | S32: =R32+Q32 -> 11090794 | T32: =S32+L32 -> 14676394 | U32: 4287
A33: 768 W. Elk Avenue Elizabethton, TN 37643 | B33: Link | C33: Link | D33: 4.5 | E33: y | F33: n | G33: n | H33: y | I33: 4.35 | J33: 61422 | K33: 3304300 | L33: 547900 | M33: =K33/I33 -> 759609.2 | N33: 1998 | O33: =N33-2023 -> -25 | P33: =O33/30 -> -0.83333333 | Q33: =K33-L33 -> 2756400 | R33: =Q33*P33 -> -2297000 | S33: =R33+Q33 -> 459400 | T33: =S33+L33 -> 1007300 | U33: 14244
A34: 1257 Georgia Rd Franklin, NC 28734 | B34: Link | C34: Link | D34: 4.5 | E34: n | F34: y | G34: n | H34: y | I34: 13.03 | J34: ND | K34: 17375220 | L34: 4281750 | M34: =K34/I34 -> 1333478.1 | N34: 2015 | O34: =N34-2023 -> -8 | P34: =O34/30 -> -0.26666667 | Q34: =K34-L34 -> 13093470 | R34: =Q34*P34 -> -3491592 | S34: =R34+Q34 -> 9601878 | T34: =S34+L34 -> 13883628 | U34: 4287
A35: 259 Barber Blvd Waynesville, NC 28786 | B35: Link | C35: Link | D35: 4.5 | E35: n | F35: y | G35: n | H35: y | I35: 19.779 | J35: ND | K35: 11424700 | L35: 3244500 | M35: =K35/I35 -> 577617.68 | N35: 2016 | O35: =N35-2023 -> -7 | P35: =O35/30 -> -0.23333333 | Q35: =K35-L35 -> 8180200 | R35: =Q35*P35 -> -1908713.3 | S35: =R35+Q35 -> 6271486.7 | T35: =S35+L35 -> 9515986.7 | U35: 10620
A36: 1668 Brown Ave, Waynesville, NC 28786 | B36: Link | C36: Link | D36: 4.5 | E36: n | F36: y | G36: n | H36: y | I36: 5.83 | J36: ND | K36: 7822100 | L36: 1275000 | M36: =K36/I36 -> 1341698.1 | N36: 2017 | O36: =N36-2023 -> -6 | P36: =O36/30 -> -0.2 | Q36: =K36-L36 -> 6547100 | R36: =Q36*P36 -> -1309420 | S36: =R36+Q36 -> 5237680 | T36: =S36+L36 -> 6512680 | U36: 10620
A37: 2334 Skyway Dr, Kannapolis, NC 28083 | B37: Link | C37: Link | D37: 4.5 | E37: y | F37: y | G37: n | H37: y | I37: 6.61 | J37: ND | K37: 4259159 | L37: 1472350 | M37: =K37/I37 -> 644350.83 | N37: 1999 | O37: =N37-2023 -> -24 | P37: =O37/30 -> -0.8 | Q37: =K37-L37 -> 2786809 | R37: =Q37*P37 -> -2229447.2 | S37: =R37+Q37 -> 557361.8 | T37: =S37+L37 -> 2029711.8 | U37: 796
A38: 118 S 400 Center Lane Dawsonville, GA 30534 | B38: Link | C38: Link | D38: 4.4 | E38: n | F38: n | G38: n | H38: n | I38: 6.28 | J38: 61919 | K38: 4473500 | L38: 1128000 | M38: =K38/I38 -> 712340.76 | N38: 1997 | O38: =N38-2023 -> -26 | P38: =O38/30 -> -0.86666667 | Q38: =K38-L38 -> 3345500 | R38: =Q38*P38 -> -2899433.3 | S38: =R38+Q38 -> 446066.67 | T38: =S38+L38 -> 1574066.7 | U38: 4489
A39: 1465 Champion Dr, Canton, NC 28716, USA | B39: Link | C39: Link | D39: 4.4 | E39: y | F39: y | G39: n | H39: y | I39: 10.5 | J39: ND | K39: 6983700 | L39: 1598500 | M39: =K39/I39 -> 665114.29 | N39: 1996 | O39: =N39-2023 -> -27 | P39: =O39/30 -> -0.9 | Q39: =K39-L39 -> 5385200 | R39: =Q39*P39 -> -4846680 | S39: =R39+Q39 -> 538520 | T39: =S39+L39 -> 2137020 | U39: 4401
A40: 55 Helen Hwy Cleveland, GA 30528 | B40: Link | C40: Link | D40: 4.5 | E40: y | F40: y | G40: n | H40: y | I40: 11.28 | J40: 51590 | K40: 3915945 | L40: 1071600 | M40: =K40/I40 -> 347158.24 | N40: 1996 | O40: =N40-2023 -> -27 | P40: =O40/30 -> -0.9 | Q40: =K40-L40 -> 2844345 | R40: =Q40*P40 -> -2559910.5 | S40: =R40+Q40 -> 284434.5 | T40: =S40+L40 -> 1356034.5 | U40: 3548
...

Sheet Master Property List
A1: Raw Property Data
A2: Address | B2: Database/GIS Link | C2: Class | D2: Acres | E2: Market Appraisal | F2: Land Value | G2: Year Built/Acquired | H2: Depreciation Rate Yrs | I2: Depreciated % | J2: Market Appr. Sub-Land | K2: Improved Depreciated | L2: Improved less Depr. | M2: Net Improved + Land | N2: Buildings Sqft | O2: Fair Market/Acre | P2: Year Assessed | Q2: Included in Ingles Tab y/n | R2: Notes
A3: 0 EMORY RD E | C3: Commercial | D3: 10.08 | E3: 1713400 | F3: n | N3: 53476 | O3: =E3/D3 -> 169980.16 | P3: 2024 | Q3: n | R3: Land
A4: 0 CEDAR LN | C4: Commercial | D4: 1.85 | E4: 676500 | F4: n | N4: - | O4: =E4/D4 -> 365675.68 | P4: 2024 | Q4: n | R4: Land
A5: 0 CEDAR LN | C5: Commercial | D5: 0.9 | E5: 538000 | F5: n | N5: - | O5: =E5/D5 -> 597777.78 | P5: 2024 | Q5: n | R5: Land
A6: 0 CEDAR LN | C6: Commercial | D6: 0.98 | E6: 299900 | F6: n | N6: - | O6: =E6/D6 -> 306020.41 | P6: 2024 | Q6: n | R6: Land
A7: 0 CEDAR LN | C7: Commercial | D7: 1 | E7: 210000 | F7: n | N7: - | O7: =E7/D7 -> 210000 | P7: 2024 | Q7: n | R7: Land
A8: 426 EMORY RD E | B8: Link | C8: Commercial | D8: 0.91 | E8: 618400 | F8: 503685 | G8: 2005 | H8: =G8-2023 -> -18 | I8: =H8/30 -> -0.6 | J8: =E8-F8 -> 114715 | K8: =J8*I8 -> -68829 | L8: =K8+J8 -> 45886 | M8: =L8+F8 -> 549571 | N8: - | O8: =E8/D8 -> 679560.44 | P8: 2024 | Q8: n | R8: Fuel station
A9: 430 EMORY RD E | C9: Commercial | D9: 31.69 | E9: 10499800 | F9: n | N9: 36839 | O9: =E9/D9 -> 331328.49 | P9: 2024 | Q9: y | R9: GIS Link, Google Link
A10: 201 CEDAR LN | C10: Commercial | D10: 1 | E10: 554000 | F10: n | N10: - | O10: =E10/D10 -> 554000 | P10: 2024 | Q10: n | R10: Land
A11: 215 CEDAR LN | C11: Commercial | D11: 10.2 | E11: 4174100 | F11: n | N11: 53476 | O11: =E11/D11 -> 409225.49 | P11: 2024 | Q11: y | R11: GIS Link, Google Link
A12: 7464 OAK RIDGE HWY | C12: Commercial | D12: 13.09 | E12: 5669600 | F12: n | N12: 68870 | O12: =E12/D12 -> 433124.52 | P12: 2024 | Q12: y | R12: GIS Link
A13: 190 Clinch Ave, Knoxville, TN | B13: Link, Link | C13: Commercial | D13: 5.81 | E13: 1542700 | F13: n | N13: 54587 | O13: =E13/D13 -> 265524.96 | P13: 2020 | Q13: n | R13: Vacant stand alone property
A14: 190 Clinch Ave, Knoxville, TN | B14: Link, Link | C14: Commercial | D14: 5 | E14: 593000 | F14: 297300 | G14: 1985 | H14: =G14-2023 -> -38 | I14: -1 | J14: =E14-F14 -> 295700 | K14: =J14*I14 -> -295700 | L14: =K14+J14 -> 0 | M14: =L14+F14 -> 297300 | N14: 10966 | O14: =E14/D14 -> 118600 | P14: 2020 | Q14: n | R14: Shopping center: Two vacant properties
A15: 190 Clinch Ave, Knoxville, TN | B15: Link, Link | C15: Commercial | D15: 2.76 | E15: 922800 | F15: n | N15: 27494 | O15: =E15/D15 -> 334347.83 | P15: 2020 | Q15: y
A16: 190 Clinch Ave, Knoxville, TN | B16: Link, Link | C16: Commercial | D16: 2.23 | E16: 204700 | F16: n | N16: - | O16: =E16/D16 -> 91793.722 | P16: 2020 | Q16: n | R16: Empty Parcel
A17: 1625 E Andrew Johnson Hwy, Morristown, TN | B17: Link, Link | C17: Commercial | D17: 2.28 | E17: 704100 | F17: 383300 | G17: 1978 | H17: =G17-2023 -> -45 | I17: -1 | J17: =E17-F17 -> 320800 | K17: =J17*I17 -> -320800 | L17: =K17+J17 -> 0 | M17: =L17+F17 -> 383300 | N17: - | O17: =E17/D17 -> 308815.79 | P17: 2023 | Q17: n | R17: Sav-Mor Foods
A18: 2845 E Andrew Johnson Hwy Greeneville, TN | B18: Link, Link | C18: Commercial | D18: 11.63 | E18: 9218800 | F18: n | N18: 76554 | O18: =E18/D18 -> 792674.12 | P18: 2023 | Q18: y
A19: 2342 E Andrew Johnson Hwy, Morristown, TN | B19: Link, Link | C19: Commercial | D19: 4.93 | E19: 2599500 | F19: n | N19: 52050 | O19: =E19/D19 -> 527281.95 | P19: 2020 | Q19: y
A20: 3980 W ANDREW JOHNSON HWY, Morristown, TN | B20: Link, Link | C20: Commercial | D20: 38.51 | E20: 7570100 | F20: n | N20: 62556 | O20: =E20/D20 -> 196574.92 | P20: 2020 | Q20: y
A21: Kelly Lane | B21: Link, Link | C21: Residential | D21: 10 | E21: 890800 | F21: n | N21: - | O21: =E21/D21 -> 89080 | P21: 2021 | Q21: n | R21: Property
A22: HWY 321 N 783 | B22: Link, Link | C22: Commercial | D22: 0.66 | E22: 639700 | F22: 304500 | G22: 2007 | H22: =G22-2023 -> -16 | I22: =H22/30 -> -0.53333333 | J22: =E22-F22 -> 335200 | K22: =J22*I22 -> -178773.33 | L22: =K22+J22 -> 156426.67 | M22: =L22+F22 -> 460926.67 | N22: 6795 | O22: =E22/D22 -> 969242.42 | P22: 2021 | Q22: n | R22: AutoZone tenant
A23: 404 Hwy 321 N, Unit 1 Lenoir City, TN 37771 | B23: Link, Link | C23: Commercial | D23: 12.03 | E23: 10959400 | F23: n | N23: 72129 | O23: =E23/D23 -> 911005.82 | P23: 2021 | Q23: y | R23: Shopping center: Bealls, 5th Nail Lounge
A24: HWY 321 N | B24: Link, Link | C24: Commercial | D24: 10.67 | E24: 3564700 | F24: 1558100 | G24: 1989 | H24: =G24-2023 -> -34 | I24: -1 | J24: =E24-F24 -> 2006600 | K24: =J24*I24 -> -2006600 | L24: =K24+J24 -> 0 | M24: =L24+F24 -> 1558100 | N24: 59490 | O24: =E24/D24 -> 334086.22 | P24: 2021 | Q24: n | R24: Shopping center: Tractor Supply Co, Goodwill
A25: HWY 321 N 785 | B25: Link, Link | C25: Commercial | D25: 4.74 | E25: 3560900 | F25: 1083700 | G25: 1990 | H25: =G25-2023 -> -33 | I25: -1 | J25: =E25-F25 -> 2477200 | K25: =J25*I25 -> -2477200 | L25: =K25+J25 -> 0 | M25: =L25+F25 -> 1083700 | N25: 1392 | O25: =E25/D25 -> 751244.73 | P25: 2021 | Q25: n | R25: Shopping center: DG Markets, Papa John's
A26: MAIN ST 4785 | B26: Link, Link | C26: Commercial | D26: 11.46 | E26: 2924400 | F26: n | N26: 54724 | O26: =E26/D26 -> 255183.25 | P26: 2021 | Q26: y | R26: Shopping center: Jasper Liquor, Farmer's Home Furniture, World Finance, Cash Mart
A27: 904 South Main St Sweetwater, TN 37874 | B27: Link, Link | C27: Commercial | D27: 4.05 | E27: 2475200 | F27: n | N27: 42749 | O27: =E27/D27 -> 611160.49 | P27: 2023 | Q27: y
A28: 4629 Hwy 411, Madisonville, TN 37354 | B28: Link, Link | C28: Commercial | D28: 11.6 | E28: 1686600 | F28: n | N28: 27656 | O28: =E28/D28 -> 145396.55 | P28: 2023 | Q28: y | R28: Shopping center: CVS, Pizza Hut, Cash Express, China Fun Buffet
A29: 4345 Fort Henry Dr, Kingsport, TN 37663 | B29: Link, Link | C29: Commercial | D29: 14.28 | E29: =4247400 -> 4247400 | F29: n | N29: =51072 -> 51072 | O29: =E29/D29 -> 297436.97 | P29: 2021 | Q29: y | R29: Shopping center: two vacant properties,
A30: 4317 Fort Henry Dr Kingsport, TN 37663 | B30: Link, Link | C30: Commercial | D30: 0 | E30: 1520900 | F30: 0 | G30: 1996 | H30: =G30-2023 -> -27 | I30: =H30/30 -> -0.9 | J30: =E30-F30 -> 1520900 | K30: =J30*I30 -> -1368810 | L30: =K30+J30 -> 152090 | M30: =L30+F30 -> 152090 | N30: 4432 | O30: N/A | P30: 2021 | Q30: n | R30: Sqft as acres don't line up with property. Stand-alone McDonalds included in 4345 Henry
A31: 4335 Fort Henry Dr, Kingsport, TN 37663 | B31: Link, Link | C31: Commercial | D31: 0 | E31: 399900 | F31: 0 | G31: 1996 | H31: =G31-2023 -> -27 | I31: =H31/30 -> -0.9 | J31: =E31-F31 -> 399900 | K31: =J31*I31 -> -359910 | L31: =K31+J31 -> 39990 | M31: =L31+F31 -> 39990 | N31: - | O31: N/A | P31: 2021 | Q31: n
A32: 237 Hamilton Pl, Kingsport, TN 37663 | B32: Link, Link | C32: Residential | D32: 0.54 | E32: 14900 | F32: n | N32: - | O32: =E32/D32 -> 27592.593 | P32: 2021 | Q32: n | R32: Residential land parcel
A33: 1913 S Roan St, Johnson City, TN 37601 | B33: Link, Link | C33: Commercial | D33: 6 | E33: 3015100 | F33: 1054500 | G33: 1981 | H33: =G33-2023 -> -42 | I33: -1 | J33: =E33-F33 -> 1960600 | K33: =J33*I33 -> -1960600 | L33: =K33+J33 -> 0 | M33: =L33+F33 -> 1054500 | N33: 34409 | O33: =E33/D33 -> 502516.67 | P33: 2024 | Q33: n | R33: Shopping center: Vacant
A34: 1923 S Roan St, Johnson City, TN 37601 | B34: Link, Link | C34: Commercial | D34: 5.39 | E34: 2445500 | F34: n | N34: 48636 | O34: =E34/D34 -> 453710.58 | P34: 2024 | Q34: n | R34: Vacant
A35: 4352 N Roan St, Johnson City, TN 37615 | B35: Link, Link | C35: Commercial | D35: 11.81 | E35: 1382000 | F35: n | N35: - | O35: =E35/D35 -> 117019.48 | P35: 2024 | Q35: n | R35: Vacant Land
A36: 1200 W Jackson Blvd, Jonesborough, TN 37659 | B36: Link, Link | C36: Commercial | D36: 0 | E36: 396700 | F36: 175000 | G36: 2009 | H36: =G36-2023 -> -14 | I36: =H36/30 -> -0.46666667 | J36: =E36-F36 -> 221700 | K36: =J36*I36 -> -103460 | L36: =K36+J36 -> 118240 | M36: =L36+F36 -> 293240 | N36: - | O36: N/A | P36: 2024 | Q36: n | R36: Ingles Gas Express
A37: 1520 ATLANTA HWY NW/Auburn, GA 30011, USA | B37: Link, Link | C37: Commercial | D37: 11.37 | E37: 1600000 | F37: 170412 | G37: 1993 | H37: =G37-2023 -> -30 | I37: =H37/30 -> -1 | J37: =E37-F37 -> 1429588 | K37: =J37*I37 -> -1429588 | L37: =K37+J37 -> 0 | M37: =L37+F37 -> 170412 | N37: 58715 | O37: =E37/D37 -> 140721.2 | P37: 2024 | Q37: n | R37: Former Ingles
A38: 1502 Atlanta Hwy, Auburn, GA 30011, United States | B38: Link, Link | C38: Commercial | D38: 20.81 | E38: 6400000 | F38: n | N38: 85753 | O38: =E38/D38 -> 307544.45 | P38: 2024 | Q38: y
A39: 285 N Broad St, Winder, GA 30680, United States | B39: Link, Link | C39: Commercial | D39: 17.83 | E39: 7100000 | F39: n | N39: 84137 | O39: =E39/D39 -> 398205.27 | P39: 2024 | Q39: y
A40: 825 West Avenue W. Cartersville, GA 30120 | B40: Link, Link | C40: Commercial | D40: 18.97 | E40: 11521554 | F40: n | N40: 67579 | O40: =E40/D40 -> 607356.56 | P40: 2024 | Q40: y
...

Sheet FCF Adj
A1: Free Cash Flow and Real Estate Acquisition Adjustments
A2: Property, Plant, and Equipment
A3: Year | B3: 2013 | C3: 2014 | D3: 2015 | E3: 2016 | F3: 2017 | G3: 2018 | H3: 2019 | I3: 2020 | J3: 2021 | K3: 2022 | L3: 2023
A4: Land | B4: 302390527 | C4: 308475596 | D4: 319247363 | E4: 332093281 | F4: 339983697 | G4: 351073344 | H4: 373434259 | I4: 387561951 | J4: 399747689 | K4: 417414333 | L4: 457048257
A5: Construction in Progress | B5: 9644248 | C5: 7201640 | D5: 15289568 | E5: 34977869 | F5: 26684306 | G5: 12393293 | H5: 26206372 | I5: 16977941 | J5: 37735207 | K5: 38591661 | L5: 43281401
A6: Buildings | B6: 983136114 | C6: 1015061129 | D6: 1027716672 | E6: 1058126030 | F6: 1110482379 | G6: 1173237017 | H6: 1212984091 | I6: 1277299029 | J6: 1304896586 | K6: 1350593056 | L6: 1414696772
A7: Store, Office, Warehouse EQ | B7: 738305477 | C7: 785827851 | D7: 815624122 | E7: 864032096 | F7: 900160007 | G7: 946026834 | H7: 979229721 | I7: 991978611 | J7: 1018790068 | K7: 1045266039 | L7: 1053056285
A8: Transportation EQ | B8: 64436941 | C8: 64705509 | D8: 68920594 | E8: 71052757 | F8: 72942078 | G8: 75919047 | H8: 78851265 | I8: 82665722 | J8: 71032666 | K8: 75163558 | L8: 78531980
A9: Leasehold Improvements | B9: 53886925 | C9: 53183103 | D9: 53902524 | E9: 54093765 | F9: 56561436 | G9: 54387952 | H9: 56455431 | I9: 60392067 | J9: 60986752 | K9: 60958847 | L9: 60950486
A10: Gross PP&E | B10: 2151800232 | C10: 2234454828 | D10: 2300700843 | E10: 2414375798 | F10: 2506813903 | G10: 2613037487 | H10: 2727161139 | I10: 2816875321 | J10: 2893188968 | K10: 2987987494 | L10: 3111221259
A11: Less Accumulated Dep. | B11: 939668177 | C11: 1015847799 | D11: 1089242450 | E11: 1166494025 | F11: 1241701553 | G11: 1309993117 | H11: 1382893824 | I11: 1462385631 | J11: 1522419536 | K11: 1613956325 | L11: 1679348970
A12: Net PP&E | B12: =B10-B11 -> 1212132055 | C12: =C10-C11 -> 1218607029 | D12: =D10-D11 -> 1211458393 | E12: =E10-E11 -> 1247881773 | F12: =F10-F11 -> 1265112350 | G12: =G10-G11 -> 1303044370 | H12: =H10-H11 -> 1344267315 | I12: =I10-I11 -> 1354489690 | ... L12: =L10-L11 -> 1431872289
A13: PP&E Ex Land & Buildings | B13: =B5+B7+B8+B9 -> 866273591 | C13: =C5+C7+C8+C9 -> 910918103 | D13: =D5+D7+D8+D9 -> 953736808 | E13: =E5+E7+E8+E9 -> 1024156487 | F13: =F5+F7+F8+F9 -> 1056347827 | G13: =G5+G7+G8+G9 -> 1088727126 | H13: =H5+H7+H8+H9 -> 1140742789 | I13: =I5+I7+I8+I9 -> 1152014341 | ... L13: =L5+L7+L8+L9 -> 1235820152
A14: PP&E Ex L&B Change | B14: 78104881 | C14: =C13-B13 -> 44644512 | D14: =D13-C13 -> 42818705 | E14: =E13-D13 -> 70419679 | F14: =F13-E13 -> 32191340 | G14: =G13-F13 -> 32379299 | H14: =H13-G13 -> 52015663 | I14: =I13-H13 -> 11271552 | J14: =J13-I13 -> 36530352 | ... L14: =L13-K13 -> 15840047
A15: Leased Land | B15: 41796507 | C15: 41424958 | D15: 41424958 | E15: 44899234 | F15: 45528897 | G15: 54348413 | H15: 57568972 | I15: 60322338 | J15: 82896124 | K15: 91607085 | L15: 111407692
A16: Leased Buildings | B16: 168884878 | C16: 155165151 | D16: 155165151 | E16: 154498272 | F16: 170277547 | G16: 170700496 | H16: 179723671 | I16: 206833515 | J16: 217732283 | K16: 241280289 | L16: 286022850
A17: Leased Total | B17: =B15+B16 -> 210681385 | C17: =C15+C16 -> 196590109 | D17: =D15+D16 -> 196590109 | E17: =E15+E16 -> 199397506 | F17: =F15+F16 -> 215806444 | G17: =G15+G16 -> 225048909 | H17: =H15+H16 -> 237292643 | I17: =I15+I16 -> 267155853 | ... L17: =L15+L16 -> 397430542
A18: Land & Buildings - Leasehold | B18: =(B4+B6)-B9 -> 1231639716 | C18: =(C4+C6)-C9 -> 1270353622 | D18: =(D4+D6)-D9 -> 1293061511 | E18: =(E4+E6)-E9 -> 1336125546 | F18: =(F4+F6)-F9 -> 1393904640 | G18: =(G4+G6)-G9 -> 1469922409 | H18: =(H4+H6)-H9 -> 1529962919 | I18: =(I4+I6)-I9 -> 1604468913 | ... L18: =(L4+L6)-L9 -> 1810794543
A19: Land & Buildings | B19: =B4+B6 -> 1285526641 | C19: =C4+C6 -> 1323536725 | D19: =D4+D6 -> 1346964035 | E19: =E4+E6 -> 1390219311 | F19: =F4+F6 -> 1450466076 | G19: =G4+G6 -> 1524310361 | H19: =H4+H6 -> 1586418350 | I19: =I4+I6 -> 1664860980 | ... L19: =L4+L6 -> 1871745029
A20: Leased L&B Change | B20: - | C20: =C17-B17 -> -14091276 | D20: =D17-C17 -> 0 | E20: =E17-D17 -> 2807397 | F20: =F17-E17 -> 16408938 | G20: =G17-F17 -> 9242465 | H20: =H17-G17 -> 12243734 | I20: =I17-H17 -> 29863210 | J20: =J17-I17 -> 33472554 | ... L20: =L17-K17 -> 64543168
A21: Gross L&B Change | B21: - | C21: =C19-B19 -> 38010084 | D21: =D19-C19 -> 23427310 | E21: =E19-D19 -> 43255276 | F21: =F19-E19 -> 60246765 | G21: =G19-F19 -> 73844285 | H21: =H19-G19 -> 62107989 | I21: =I19-H19 -> 78442630 | J21: =J19-I19 -> 39783295 | ... L21: =L19-K19 -> 103737640
A22: Total Capex | C22: =C21+C14 -> 82654596 | D22: =D21+D14 -> 66246015 | E22: =E21+E14 -> 113674955 | F22: =F21+F14 -> 92438105 | G22: =G21+G14 -> 106223584 | H22: =H21+H14 -> 114123652 | I22: =I21+I14 -> 89714182 | J22: =J21+J14 -> 76313647 | ... L22: =L21+L14 -> 119577687
A23: Leaed & of Land & buildings | B23: - | C23: =C20/C21 -> -0.37072467 | D23: =D20/D21 -> 0 | E23: =E20/E21 -> 0.064902996 | F23: =F20/F21 -> 0.27236214 | G23: =G20/G21 -> 0.12516155 | H23: =H20/H21 -> 0.19713622 | I23: =I20/I21 -> 0.38070128 | J23: =J20/J21 -> 0.84137209 | ... L23: =L20/L21 -> 0.62217695
A24: L&B Vol - Leased | B24: - | C24: =C21 -> 38010084 | D24: =D21-D20 -> 23427310 | E24: =E21-E20 -> 40447879 | F24: =F21-F20 -> 43837827 | G24: =G21-G20 -> 64601820 | H24: =H21-H20 -> 49864255 | I24: =I21-I20 -> 48579420 | J24: =J21-J20 -> 6310741 | K24: =K21-K20 -> 31104147 | L24: =L21-L20 -> 39194472
A25: Land + Buildings Change + Adj Capex | B25: - | C25: =C21+C33 -> 82654596 | D25: =D21+D33 -> 66246015 | E25: =E21+E33 -> 113674955 | F25: =F21+F33 -> 92438105 | G25: =G21+G33 -> 106223584 | H25: =H21+H33 -> 114123652 | I25: =I21+I33 -> 89714182 | J25: =J21+J33 -> 76313647 | ... L25: =L21+L33 -> 119577687
A26: Free Cash Flow
A27: Year | B27: 2013 | C27: 2014 | D27: 2015 | E27: 2016 | F27: 2017 | G27: 2018 | H27: 2019 | I27: 2020 | J27: 2021 | K27: 2022 | L27: 2023
A28: Retail revenue | B28: 3559800000 | C28: 3683000000 | D28: 3635800000 | E28: 3656800000 | F28: 3860700000 | G28: 3971400000 | H28: 4071400000 | I28: 4482100000 | J28: 4832000000 | K28: 5475700000 | L28: 5663900000
A29: Net Income | B29: 20795890 | C29: 51426454 | D29: 59353123 | E29: 54189466 | F29: 53873580 | G29: 97364628 | H29: 81580002 | I29: 178601433 | J29: 249731458 | K29: 272758928 | L29: 210811959
A30: Depreciation | B30: 97663587 | C30: 102876964 | D30: 102876964 | E30: 106587686 | F30: 110929378 | G30: 113082675 | H30: 112520100 | I30: 116282239 | J30: 117103658 | K30: 117801654 | L30: 115979172
A31: Ingles Leasing Depreciation | B31: 5220102 | C31: 5363637 | D31: 5019873 | E31: 4936485 | F31: 5255719 | G31: 5132805 | H31: 5183712 | I31: 5278540 | J31: 5855749 | K31: 6318888 | L31: 7788344
A32: Ingles Suprermarkets Depreciation Net of IL | B32: =B30-B31 -> 92443485 | C32: =C30-C31 -> 97513327 | D32: =D30-D31 -> 97857091 | E32: =E30-E31 -> 101651201 | F32: =F30-F31 -> 105673659 | G32: =G30-G31 -> 107949870 | H32: =H30-H31 -> 107336388 | I32: =I30-I31 -> 111003699 | ... L32: =L30-L31 -> 108190828
A33: Capex Ex Real Estate Acquisitions | B33: =B14 -> 78104881 | C33: =C14 -> 44644512 | D33: =D14 -> 42818705 | E33: =E14 -> 70419679 | F33: =F14 -> 32191340 | G33: =G14 -> 32379299 | H33: =H14 -> 52015663 | I33: =I14 -> 11271552 | ... L33: =L14 -> 15840047
A34: Adjusted EBIT
A35: Ingles Supermarkets Capex Adj EBITDA | B35: =B32-B33 -> 14338604 | C35: =C32-C33 -> 52868815 | D35: =D32-D33 -> 55038386 | E35: =E32-E33 -> 31231522 | F35: =F32-F33 -> 73482319 | G35: =G32-G33 -> 75570571 | H35: =H32-H33 -> 55320725 | I35: =I32-I33 -> 99732147 | ... L35: =L32-L33 -> 92350781
A36: Retail EBIT | B36: 114000000 | C36: 112000000 | D36: 126100000 | E36: 112900000 | F36: 112000000 | G36: 111200000 | H36: 135400000 | I36: 264400000 | J36: 327600000 | K36: 353000000 | L36: 173350000
A37: Retail EBITDA | B37: =B36+B35 -> 128338604 | C37: =C36+C35 -> 164868815 | D37: =D36+D35 -> 181138386 | E37: =E36+E35 -> 144131522 | F37: =F36+F35 -> 185482319 | G37: =G36+G35 -> 186770571 | H37: =H36+H35 -> 190720725 | I37: =I36+I35 -> 364132147 | ... L37: =L36+L35 -> 265700781
A38: Retail EBITDA Capex Adj EBITDA Margin | B38: =B35/B28 -> 0.004027924 | C38: =C35/C28 -> 0.014354824 | D38: =D35/D28 -> 0.015137903 | E38: =E35/E28 -> 0.00854067 | F38: =F35/F28 -> 0.019033419 | G38: =G35/G28 -> 0.019028698 | H38: =H35/H28 -> 0.013587642 | I38: =I35/I28 -> 0.02225121 | ... L38: =L35/L28 -> 0.016305157
A39: Retail EBITDA Margin | B39: - | C39: =C37/C28 -> 0.044764815 | D39: =D37/D28 -> 0.049820778 | E39: =E37/E28 -> 0.039414658 | F39: =F37/F28 -> 0.048043702 | G39: =G37/G28 -> 0.047028899 | H39: =H37/H28 -> 0.046844016 | I39: =I37/I28 -> 0.081241415 | J39: =J37/J28 -> 0.083261084 | ... L39: =L37/L28 -> 0.046911277
A40: Capex Incl RS Acquisitions | B40: - | C40: =C33+C21 -> 82654596 | D40: =D33+D21 -> 66246015 | E40: =E33+E21 -> 113674955 | F40: =F33+F21 -> 92438105 | G40: =G33+G21 -> 106223584 | H40: =H33+H21 -> 114123652 | I40: =I33+I21 -> 89714182 | J40: =J33+J21 -> 76313647 | ... L40: =L33+L21 -> 119577687
...

Sheet Ingles Economics
A1: Ingles Markets Segment Economics
A2: Revenue
A3: Year | B3: 2013 | C3: 2014 | D3: 2015 | E3: 2016 | F3: 2017 | G3: 2018 | H3: 2019 | I3: 2020 | J3: 2021 | K3: 2022 | L3: 2023 | M3: 1-Year Change | N3: 2-Year Change | O3: 3-Year Change | P3: 4-Year Change | Q3: 5-Year Change | R3: 10-Year Change | S3: Notes
A4: Grocery | B4: 1424.9 | C4: 1397.9 | D4: 1387.2 | E4: 1392.3 | F4: 1424.9 | G4: 1413.1 | H4: 1443.4 | I4: 1694 | J4: 1762.9 | K4: 1940.4 | L4: 2062.4 | M4: =(L4-K4)/K4 -> 0.062873634 | N4: =(L4-J4)/J4 -> 0.16989052 | O4: =(L4-I4)/I4 -> 0.21747344 | P4: =(L4-H4)/H4 -> 0.42884855 | Q4: =(L4-G4)/G4 -> 0.45948624 | R4: =(L4-B4)/B4 -> 0.44739982
A5: Non-foods | B5: 707.2 | C5: 729.9 | D5: 769.2 | E5: 817.2 | F5: 858.4 | G5: 874.7 | H5: 936.2 | I5: 1067 | J5: 1136.3 | K5: 1204.5 | L5: 1326.9 | M5: =(L5-K5)/K5 -> 0.10161893 | N5: =(L5-J5)/J5 -> 0.16773739 | O5: =(L5-I5)/I5 -> 0.24358013 | P5: =(L5-H5)/H5 -> 0.41732536 | Q5: =(L5-G5)/G5 -> 0.51697725 | R5: =(L5-B5)/B5 -> 0.87627262
A6: Perishables | B6: 899 | C6: 937.4 | D6: 981.2 | E6: 1011.7 | F6: 1061.6 | G6: 1078.7 | H6: 1110.7 | I6: 1261.5 | J6: 1349.1 | K6: 1445 | L6: 1482.1 | M6: =(L6-K6)/K6 -> 0.02567474 | N6: =(L6-J6)/J6 -> 0.098584241 | O6: =(L6-I6)/I6 -> 0.17487119 | P6: =(L6-H6)/H6 -> 0.33438372 | Q6: =(L6-G6)/G6 -> 0.37396867 | R6: =(L6-B6)/B6 -> 0.64860957
A7: Fuel | B7: 568.7 | C7: 618.1 | D7: 498.2 | E7: 435.6 | F7: 515.8 | G7: 604.9 | H7: 581.1 | I7: 459.6 | J7: 583.7 | K7: 885.8 | L7: 792.5 | M7: =(L7-K7)/K7 -> -0.10532852 | N7: =(L7-J7)/J7 -> 0.35771801 | O7: =(L7-I7)/I7 -> 0.7243255 | P7: =(L7-H7)/H7 -> 0.36379281 | Q7: =(L7-G7)/G7 -> 0.31013391 | R7: =(L7-B7)/B7 -> 0.3935291
A8: Total Retail | B8: =SUM(B4:B7) -> 3599.8 | C8: =SUM(C4:C7) -> 3683.3 | D8: =SUM(D4:D7) -> 3635.8 | E8: =SUM(E4:E7) -> 3656.8 | F8: =SUM(F4:F7) -> 3860.7 | G8: =SUM(G4:G7) -> 3971.4 | H8: =SUM(H4:H7) -> 4071.4 | I8: =SUM(I4:I7) -> 4482.1 | ... L8: =SUM(L4:L7) -> 5663.9 | M8: =(L8-K8)/K8 -> 0.034370035 | N8: =(L8-J8)/J8 -> 0.17216474 | O8: =(L8-I8)/I8 -> 0.26367105 | P8: =(L8-H8)/H8 -> 0.3911431 | Q8: =(L8-G8)/G8 -> 0.42617213 | R8: =(L8-B8)/B8 -> 0.57339297
A9: Other | B9: 138.7 | C9: 152.7 | D9: 142.8 | E9: 138.2 | F9: 142 | G9: 121.4 | H9: 130.6 | I9: 128.5 | J9: 156 | K9: 203.1 | L9: 228.9 | M9: =(L9-K9)/K9 -> 0.12703102 | N9: =(L9-J9)/J9 -> 0.46730769 | O9: =(L9-I9)/I9 -> 0.78132296 | P9: =(L9-H9)/H9 -> 0.75267994 | Q9: =(L9-G9)/G9 -> 0.88550247 | R9: =(L9-B9)/B9 -> 0.65032444
A10: Consolidated Total | B10: 3738.5 | C10: 3836 | D10: 3778.6 | E10: 3795 | F10: 4002.7 | G10: 4092.8 | H10: 4202 | I10: 4610.6 | J10: 4988 | K10: 5678.8 | L10: 5892.8 | M10: =(L10-K10)/K10 -> 0.037684018 | N10: =(L10-J10)/J10 -> 0.18139535 | O10: =(L10-I10)/I10 -> 0.2780983 | P10: =(L10-H10)/H10 -> 0.40237982 | Q10: =(L10-G10)/G10 -> 0.43979672 | R10: =(L10-B10)/B10 -> 0.57624716
A11: % of Other | B11: =B9/B10 -> 0.037100441 | C11: =C9/C10 -> 0.039807091 | D11: =D9/D10 -> 0.037791775 | E11: =E9/E10 -> 0.036416337 | F11: =F9/F10 -> 0.035476054 | G11: =G9/G10 -> 0.029661845 | H11: =H9/H10 -> 0.031080438 | I11: =I9/I10 -> 0.027870559 | ... L11: =L9/L10 -> 0.038844013 | M11: =(L11-K11)/K11 -> 0.08610232 | N11: =(L11-J11)/J11 -> 0.24201242 | O11: =(L11-I11)/I11 -> 0.39372923 | P11: =(L11-H11)/H11 -> 0.24978976 | Q11: =(L11-G11)/G11 -> 0.30956159 | R11: =(L11-B11)/B11 -> 0.046995982
A12: Retail Revenue GR | B12: -% | C12: =(C8-B8)/B8 -> 0.023195733 | D12: =(D8-C8)/C8 -> -0.012896044 | E12: =(E8-D8)/D8 -> 0.0057758953 | F12: =(F8-E8)/E8 -> 0.055759134 | G12: =(G8-F8)/F8 -> 0.028673557 | H12: =(H8-G8)/G8 -> 0.025180037 | I12: =(I8-H8)/H8 -> 0.10087439 | J12: =(J8-I8)/I8 -> 0.078066085 | ... L12: =(L8-K8)/K8 -> 0.034370035 | M12: - | N12: - | O12: - | P12: - | Q12: - | R12: -
A13: Retail EBIT GR | B13: -% | C13: =(C15-B15)/B15 -> -0.020979021 | D13: =(D15-C15)/C15 -> 0.12589286 | E13: =(E15-D15)/D15 -> -0.10467883 | F13: =(F15-E15)/E15 -> -0.0079716563 | G13: =(G15-F15)/F15 -> -0.0071428571 | H13: =(H15-G15)/G15 -> 0.2176259 | I13: =(I15-H15)/H15 -> 0.95273264 | J13: =(J15-I15)/I15 -> 0.23903177 | ... L13: =(L15-K15)/K15 -> -0.50892351 | M13: - | N13: - | O13: - | P13: - | Q13: - | R13: -
A14: Segment EBIT
A15: Retail | B15: 114.4 | C15: 112 | D15: 126.1 | E15: 112.9 | F15: 112 | G15: 111.2 | H15: 135.4 | I15: 264.4 | J15: 327.6 | K15: 353 | L15: 173.35 | M15: =(L15-K15)/K15 -> -0.50892351 | N15: =(L15-J15)/J15 -> -0.4708486 | O15: =(L15-I15)/I15 -> -0.3443646 | P15: =(L15-H15)/H15 -> 0.28028065 | Q15: =(L15-G15)/G15 -> 0.55890288 | R15: =(L15-B15)/B15 -> 0.5152972
A16: Other | B16: 11.1 | C16: 11.4 | D16: 13.1 | E16: 15.7 | F16: 15.9 | G16: 13.6 | H16: 16.8 | I16: 16.5 | J16: 22.5 | K16: 23.9 | L16: 29.1 | M16: =(L16-K16)/K16 -> 0.21757322 | N16: =(L16-J16)/J16 -> 0.29333333 | O16: =(L16-I16)/I16 -> 0.76363636 | P16: =(L16-H16)/H16 -> 0.73214286 | Q16: =(L16-G16)/G16 -> 1.1397059 | R16: =(L16-B16)/B16 -> 1.6216216
A17: Total EBIT | B17: 121.3 | C17: 122.5 | D17: 137 | E17: 129.8 | F17: 126.4 | G17: 124.1 | H17: 148.1 | I17: 276.5 | J17: 340.1 | K17: 375.6 | L17: =L15+L16 -> 202.45 | M17: =(L17-K17)/K17 -> -0.46099574 | N17: =(L17-J17)/J17 -> -0.4047339 | O17: =(L17-I17)/I17 -> -0.26781193 | P17: =(L17-H17)/H17 -> 0.36698177 | Q17: =(L17-G17)/G17 -> 0.63134569 | R17: =(L17-B17)/B17 -> 0.66900247
A18: Other % of total | B18: =B16/B17 -> 0.091508656 | C18: =C16/C17 -> 0.093061224 | D18: =D16/D17 -> 0.095620438 | E18: =E16/E17 -> 0.12095532 | F18: =F16/F17 -> 0.12579114 | G18: =G16/G17 -> 0.10958904 | H18: =H16/H17 -> 0.11343687 | I18: =I16/I17 -> 0.059674503 | ... L18: =L16/L17 -> 0.14373919 | M18: =(L18-K18)/K18 -> 1.2589306 | N18: =(L18-J18)/J18 -> 1.1726978 | O18: =(L18-I18)/I18 -> 1.4087204 | P18: =(L18-H18)/H18 -> 0.26712945 | Q18: =(L18-G18)/G18 -> 0.31162015 | R18: =(L18-B18)/B18 -> 0.57077156
A19: Total EBIT Margin | B19: =B17/B10 -> 0.032446168 | C19: =C17/C10 -> 0.031934307 | D19: =D17/D10 -> 0.036256815 | E19: =E17/E10 -> 0.034202899 | F19: =F17/F10 -> 0.031578684 | G19: =G17/G10 -> 0.03032154 | H19: =H17/H10 -> 0.035245121 | I19: =I17/I10 -> 0.059970503 | ... L19: =L17/L10 -> 0.034355485 | M19: =(L19-K19)/K19 -> -0.48056995 | N19: =(L19-J19)/J19 -> -0.49613303 | O19: =(L19-I19)/I19 -> -0.42712695 | P19: =(L19-H19)/H19 -> -0.025241414 | Q19: =(L19-G19)/G19 -> 0.1330389 | R19: =(L19-B19)/B19 -> 0.058845667
A20: Total Adj EBIT | B20: =5.22+B17 -> 126.52 | C20: =C17+5.364 -> 127.864 | D20: =5.02+D17 -> 142.02 | E20: =4.94+E17 -> 134.74 | F20: =5.26+F17 -> 131.66 | G20: =5.13+G17 -> 129.23 | H20: =5.183+H17 -> 153.283 | I20: =5.279+I17 -> 281.779 | J20: =5.856+J17 -> 345.956 | K20: =6.319+K17 -> 381.919 | L20: =7.79+L17 -> 210.24 | M20: =(L20-K20)/K20 -> -0.44951678 | N20: =(L20-J20)/J20 -> -0.39229266 | O20: =(L20-I20)/I20 -> -0.25388336 | P20: =(L20-H20)/H20 -> 0.37158067 | Q20: =(L20-G20)/G20 -> 0.62686683 | R20: =(L20-B20)/B20 -> 0.66171356
A21: Total Adj EBIT Margin | B21: =B20/B10 -> 0.03384245 | C21: =C20/C10 -> 0.033332638 | D21: =D20/D10 -> 0.037585349 | E21: =E20/E10 -> 0.035504611 | F21: =F20/F10 -> 0.032892797 | G21: =G20/G10 -> 0.031574961 | H21: =H20/H10 -> 0.036478582 | I21: =I20/I10 -> 0.061115473 | ... L21: =L20/L10 -> 0.035677437 | M21: =(L21-K21)/K21 -> -0.46950786 | N21: =(L21-J21)/J21 -> -0.48560206 | O21: =(L21-I21)/I21 -> -0.41622906 | P21: =(L21-H21)/H21 -> -0.021962059 | Q21: =(L21-G21)/G21 -> 0.12992814 | R21: =(L21-B21)/B21 -> 0.054221449
A22: EBIT Margin
A23: Retail Margin | B23: =B15/B8 -> 0.031779543 | C23: =C15/C8 -> 0.030407515 | D23: =D15/D8 -> 0.034682876 | E23: =E15/E8 -> 0.030873988 | F23: =F15/F8 -> 0.029010283 | G23: =G15/G8 -> 0.028000201 | H23: =H15/H8 -> 0.033256374 | I23: =I15/I8 -> 0.058990205 | ... L23: =L15/L8 -> 0.030606119 | M23: =(L23-K23)/K23 -> -0.525241 | N23: =(L23-J23)/J23 -> -0.54856908 | O23: =(L23-I23)/I23 -> -0.48116608 | P23: =(L23-H23)/H23 -> -0.079691619 | Q23: =(L23-G23)/G23 -> 0.093067831 | R23: =(L23-B23)/B23 -> -0.036923874 | S23: Retail margin pre-covid is 3.11%, 33.12% lower than pre-covid. Normalizing to pre-covid averages, EBIT would be $213.5MM. Dairy margins 10.2% but steadily increasing pre-covid. EBIT dairy margins stabalized?
A24: Other Margin | B24: =B16/B9 -> 0.080028839 | C24: =C16/C9 -> 0.074656189 | D24: =D16/D9 -> 0.091736695 | E24: =E16/E9 -> 0.11360347 | F24: =F16/F9 -> 0.11197183 | G24: =G16/G9 -> 0.11202636 | H24: =H16/H9 -> 0.12863706 | I24: =I16/I9 -> 0.12840467 | ... L24: =L16/L9 -> 0.12712975 | M24: =(L24-K24)/K24 -> 0.080336922 | N24: =(L24-J24)/J24 -> -0.11856706 | O24: =(L24-I24)/I24 -> -0.009928909 | P24: =(L24-H24)/H24 -> -0.011717531 | Q24: =(L24-G24)/G24 -> 0.13481998 | R24: =(L24-B24)/B24 -> 0.58854923
A25: Store Growth
A26: North Carolina | B26: 70 | C26: 71 | D26: 71 | E26: 70 | F26: 70 | G26: 72 | H26: 73 | I26: 73 | J26: 75 | K26: 75 | L26: 75 | M26: =(L26-K26)/K26 -> 0 | N26: =(L26-J26)/J26 -> 0 | O26: =(L26-I26)/I26 -> 0.02739726 | P26: =(L26-H26)/H26 -> 0.02739726 | Q26: =(L26-G26)/G26 -> 0.041666667 | R26: =(L26-B26)/B26 -> 0.071428571
A27: South Carolina | B27: 36 | C27: 36 | D27: 36 | E27: 36 | F27: 36 | G27: 36 | H27: 36 | I27: 35 | J27: 35 | K27: 35 | L27: 35 | M27: =(L27-K27)/K27 -> 0 | N27: =(L27-J27)/J27 -> 0 | O27: =(L27-I27)/I27 -> 0 | P27: =(L27-H27)/H27 -> -0.027777778 | Q27: =(L27-G27)/G27 -> -0.027777778 | R27: =(L27-B27)/B27 -> -0.027777778
A28: Georgia | B28: 73 | C28: 71 | D28: 71 | E28: 71 | F28: 70 | G28: 69 | H28: 66 | I28: 66 | J28: 65 | K28: 65 | L28: 65 | M28: =(L28-K28)/K28 -> 0 | N28: =(L28-J28)/J28 -> 0 | O28: =(L28-I28)/I28 -> -0.015151515 | P28: =(L28-H28)/H28 -> -0.015151515 | Q28: =(L28-G28)/G28 -> -0.057971014 | R28: =(L28-B28)/B28 -> -0.10958904
A29: Tennessee | B29: 21 | C29: 21 | D29: 20 | E29: 21 | F29: 21 | G29: 21 | H29: 21 | I29: 21 | J29: 21 | K29: 21 | L29: 21 | M29: =(L29-K29)/K29 -> 0 | N29: =(L29-J29)/J29 -> 0 | O29: =(L29-I29)/I29 -> 0 | P29: =(L29-H29)/H29 -> 0 | Q29: =(L29-G29)/G29 -> 0 | R29: =(L29-B29)/B29 -> 0
A30: Virginia | B30: 2 | C30: 2 | D30: 2 | E30: 2 | F30: 1 | G30: 1 | H30: 1 | I30: 1 | J30: 1 | K30: 1 | L30: 1 | M30: =(L30-K30)/K30 -> 0 | N30: =(L30-J30)/J30 -> 0 | O30: =(L30-I30)/I30 -> 0 | P30: =(L30-H30)/H30 -> 0 | Q30: =(L30-G30)/G30 -> 0 | R30: =(L30-B30)/B30 -> -0.5
A31: Alabama | B31: 1 | C31: 1 | D31: 1 | E31: 1 | F31: 1 | G31: 1 | H31: 1 | I31: 1 | J31: 1 | K31: 1 | L31: 1 | M31: =(L31-K31)/K31 -> 0 | N31: =(L31-J31)/J31 -> 0 | O31: =(L31-I31)/I31 -> 0 | P31: =(L31-H31)/H31 -> 0 | Q31: =(L31-G31)/G31 -> 0 | R31: =(L31-B31)/B31 -> 0
A32: Total | B32: =SUM(B26:B31) -> 203 | C32: =SUM(C26:C31) -> 202 | D32: =SUM(D26:D31) -> 201 | E32: =SUM(E26:E31) -> 201 | F32: =SUM(F26:F31) -> 199 | G32: =SUM(G26:G31) -> 200 | H32: =SUM(H26:H31) -> 198 | I32: =SUM(I26:I31) -> 197 | ... L32: =SUM(L26:L31) -> 198 | M32: =(L32-K32)/K32 -> 0 | N32: =(L32-J32)/J32 -> 0 | O32: =(L32-I32)/I32 -> 0.0050761421 | P32: =(L32-H32)/H32 -> 0 | Q32: =(L32-G32)/G32 -> -0.01 | R32: =(L32-B32)/B32 -> -0.024630542
A33: Sales Per Square-Foot
A34: Weighted Avg SPS (000's) | B34: 17728 | C34: 18267 | D34: 18003 | E34: 18107 | F34: 19133 | G34: 19674 | H34: 20189 | I34: 22215 | J34: 23926 | K34: 27622 | L34: 28565 | M34: =(L34-K34)/K34 -> 0.034139454 | N34: =(L34-J34)/J34 -> 0.19388949 | O34: =(L34-I34)/I34 -> 0.2858429 | P34: =(L34-H34)/H34 -> 0.41487939 | Q34: =(L34-G34)/G34 -> 0.45191623 | R34: =(L34-B34)/B34 -> 0.61129287
A35: Sqft Year-End (000's) | B35: 11076 | C35: 11063 | D35: 11049 | E35: 11117 | F35: 11173 | G35: 11329 | H35: 11247 | I35: 11256 | J35: 11342 | K35: 11342 | L35: 11403 | M35: =(L35-K35)/K35 -> 0.0053782402 | N35: =(L35-J35)/J35 -> 0.0053782402 | O35: =(L35-I35)/I35 -> 0.013059701 | P35: =(L35-H35)/H35 -> 0.013870365 | Q35: =(L35-G35)/G35 -> 0.0065319093 | R35: =(L35-B35)/B35 -> 0.029523294
A36: Avg Sqft/Store | B36: 54561 | C36: 54770 | D36: 54974 | E36: 55310 | F36: 56146 | G36: 56643 | H36: 56806 | I36: 57138 | J36: 57281 | K36: 57281 | L36: 57589 | M36: =(L36-K36)/K36 -> 0.0053770011 | N36: =(L36-J36)/J36 -> 0.0053770011 | O36: =(L36-I36)/I36 -> 0.0078931709 | P36: =(L36-H36)/H36 -> 0.013783755 | Q36: =(L36-G36)/G36 -> 0.016701093 | R36: =(L36-B36)/B36 -> 0.055497517
A37: Avg Selling Space/Store | B37: 38193 | C37: 38339 | D37: 38482 | E37: 38717 | F37: 39302 | G37: 39650 | H37: 39765 | I37: 39997 | J37: 40097 | K37: 40097 | L37: 40313 | M37: =(L37-K37)/K37 -> 0.0053869367 | N37: =(L37-J37)/J37 -> 0.0053869367 | O37: =(L37-I37)/I37 -> 0.0079005925 | P37: =(L37-H37)/H37 -> 0.013780963 | Q37: =(L37-G37)/G37 -> 0.016721311 | R37: =(L37-B37)/B37 -> 0.055507554
A38: Avg Sales/Sqft of Selling Space | B38: 465 | C38: 476 | D38: 470 | E38: 471 | F38: 494 | G38: 502 | H38: 516 | I38: 568 | J38: 609 | K38: 689 | L38: 709 | M38: =(L38-K38)/K38 -> 0.029027576 | N38: =(L38-J38)/J38 -> 0.16420361 | O38: =(L38-I38)/I38 -> 0.24823944 | P38: =(L38-H38)/H38 -> 0.37403101 | Q38: =(L38-G38)/G38 -> 0.4123506 | R38: =(L38-B38)/B38 -> 0.52473118

Sheet DairyShopping Center Economics
A1: Milkco/Ingles Leasing Economics
A2: "Other" Consolidated
A3: Year | B3: 2013 | C3: 2014 | D3: 2015 | E3: 2016 | F3: 2017 | G3: 2018 | H3: 2019 | I3: 2020 | J3: 2021 | K3: 2022 | L3: 2023 | M3: 9 Months Q3 2023 | N3: 9 Months YTD | O3: Total Change
A4: Other Revenue | B4: 138700000 | C4: 152700000 | D4: 142800000 | E4: 138200000 | F4: 142000000 | G4: 121400000 | H4: 130600000 | I4: 128500000 | J4: 156000000 | K4: 203100000 | L4: 228900000 | M4: 170167000 | N4: 162198000 | O4: =(L4-B4)/B4 -> 0.65032444
A5: Other EBIT | B5: 11100000 | C5: 11400000 | D5: 13100000 | E5: 15700000 | F5: 15900000 | G5: 13600000 | H5: 16800000 | I5: 16500000 | J5: 22500000 | K5: 23900000 | L5: 29100000 | M5: 22072000 | N5: 18909000 | O5: =(L5-B5)/B5 -> 1.6216216
A6: Adj. Other Ebit | B6: =B5+B23 -> 16320102 | C6: =C5+C23 -> 16763637 | D6: =D5+D23 -> 18119873 | E6: =E5+E23 -> 20636485 | F6: =F5+F23 -> 21155719 | G6: =G5+G23 -> 18732805 | H6: =H5+H23 -> 21983712 | I6: =I5+I23 -> 21778540 | ... N6: =N5+N23 -> 24963656 | O6: =(L6-B6)/B6 -> 1.2603011
A7: Adj Other EBITM | B7: =B6/B4 -> 0.11766476 | C7: =C6/C4 -> 0.10978151 | D7: =D6/D4 -> 0.12688987 | E7: =E6/E4 -> 0.14932334 | F7: =F6/F4 -> 0.14898394 | G7: =G6/G4 -> 0.15430647 | H7: =H6/H4 -> 0.16832858 | I7: =I6/I4 -> 0.1694828 | ... N7: =N6/N4 -> 0.15390853 | O7: =(L7-B7)/B7 -> 0.36961013
A8: Revenue GR | B8: -% | C8: =(C4-B4)/B4 -> 0.10093727 | D8: =(D4-C4)/C4 -> -0.064833006 | E8: =(E4-D4)/D4 -> -0.032212885 | F8: =(F4-E4)/E4 -> 0.027496382 | G8: =(G4-F4)/F4 -> -0.14507042 | H8: =(H4-G4)/G4 -> 0.075782537 | I8: =(I4-H4)/H4 -> -0.016079632 | J8: =(J4-I4)/I4 -> 0.21400778 | ... L8: =(L4-K4)/K4 -> 0.12703102 | M8: - | N8: =(N4-M4)/M4 -> -0.046830467 | O8: -
A9: EBIT GR | B9: -% | C9: =(C5-B5)/B5 -> 0.027027027 | D9: =(D5-C5)/C5 -> 0.14912281 | E9: =(E5-D5)/D5 -> 0.19847328 | F9: =(F5-E5)/E5 -> 0.012738853 | G9: =(G5-F5)/F5 -> -0.14465409 | H9: =(H5-G5)/G5 -> 0.23529412 | I9: =(I5-H5)/H5 -> -0.017857143 | J9: =(J5-I5)/I5 -> 0.36363636 | ... L9: =(L5-K5)/K5 -> 0.21757322 | M9: - | N9: =(N5-M5)/M5 -> -0.14330373 | O9: -
A10: Adj. EBIT GR | B10: -% | C10: =(C6-B6)/B6 -> 0.02717722 | D10: =(D6-C6)/C6 -> 0.080903446 | E10: =(E6-D6)/D6 -> 0.13888685 | F10: =(F6-E6)/E6 -> 0.025160971 | G10: =(G6-F6)/F6 -> -0.11452761 | H10: =(H6-G6)/G6 -> 0.17354086 | I10: =(I6-H6)/H6 -> -0.0093329097 | J10: =(J6-I6)/I6 -> 0.30200413 | ... L10: =(L6-K6)/K6 -> 0.22070488 | M10: - | N10: =(N6-M6)/M6 -> -0.078638566 | O10: -
A11: Milcko | O11: Total Change
A12: Year | B12: 2013 | C12: 2014 | D12: 2015 | E12: 2016 | F12: 2017 | G12: 2018 | H12: 2019 | I12: 2020 | J12: 2021 | K12: 2022 | L12: 2023 | M12: 9 Months Q3 2023 | N12: 9 Months YTD | O12: =(L12-B12)/B12 -> 0.0049677099
A13: Revenue | B13: =B4-B20 -> 130702864 | C13: =C4-C20 -> 144824899 | D13: =D4-D20 -> 135160275 | E13: =E4-E20 -> 129919210 | F13: =F4-F20 -> 133152965 | G13: =G4-G20 -> 110573003 | H13: =H4-H20 -> 115778266 | I13: =I4-I20 -> 114618037 | ... N13: =N4-N20 -> 141743267 | O13: =(L13-B13)/B13 -> 0.56030012
A14: EBIT | B14: =B5-B25 -> 10001618 | C14: =C5-C25 -> 10539396 | D14: =D5-D25 -> 12104752 | E14: =E5-E25 -> 14166978 | F14: =F5-F25 -> 14629456 | G14: =G5-G25 -> 10623703 | H14: =H5-H25 -> 10523428 | I14: =I5-I25 -> 10934024 | ... N14: =N5-N25 -> 7213205 | O14: =(L14-B14)/B14 -> 0.54701199
A15: EBIT Margin | B15: =B14/B13 -> 0.076521797 | C15: =C14/C13 -> 0.07277337 | D15: =D14/D13 -> 0.089558504 | E15: =E14/E13 -> 0.10904452 | F15: =F14/F13 -> 0.10986955 | G15: =G14/G13 -> 0.096078633 | H15: =H14/H13 -> 0.090892949 | I15: =I14/I13 -> 0.095395317 | ... N15: =N14/N13 -> 0.050889225 | O15: =(L15-B15)/B15 -> -0.0085163944
A16: Revenue GR | B16: -% | C16: =(C13-B13)/B13 -> 0.10804687 | D16: =(D13-C13)/C13 -> -0.066733166 | E16: =(E13-D13)/D13 -> -0.038776667 | F16: =(F13-E13)/E13 -> 0.024890507 | G16: =(G13-F13)/F13 -> -0.16957912 | H16: =(H13-G13)/G13 -> 0.047075352 | I16: =(I13-H13)/H13 -> -0.01002113 | J16: =(J13-I13)/I13 -> 0.19399948 | ... L16: =(L13-K13)/K13 -> 0.11435263 | M16: - | N16: =(N13-M13)/M13 -> -0.067301435 | O16: -
A17: EBIT GR | B17: -% | C17: =(C14-B14)/B14 -> 0.0537691 | D17: =(D14-C14)/C14 -> 0.14852426 | E17: =(E14-D14)/D14 -> 0.17036499 | F17: =(F14-E14)/E14 -> 0.032644788 | G17: =(G14-F14)/F14 -> -0.27381421 | H17: =(H14-G14)/G14 -> -0.0094387993 | I17: =(I14-H14)/H14 -> 0.039017324 | J17: =(J14-I14)/I14 -> 0.11920799 | ... L17: =(L14-K14)/K14 -> 0.19674872 | M17: - | N17: =(N14-M14)/M14 -> -0.37081897 | O17: -
A18: Ingles Leasing
A19: Year | B19: 2013 | C19: 2014 | D19: 2015 | E19: 2016 | F19: 2017 | G19: 2018 | H19: 2019 | I19: 2020 | J19: 2021 | K19: 2022 | L19: 2023 | M19: 9 Months Q3 2023 | N19: YTD Change | O19: Total Change | P19: 9 Months Consolidated
A20: Base Rents | B20: 7997136 | C20: 7875101 | D20: 7639725 | E20: 8280790 | F20: 8847035 | G20: 10826997 | H20: 14821734 | I20: 13881963 | J20: 19146124 | K20: 20091776 | L20: 24964305 | M20: 18195857 | N20: 20454733 | O20: =(L20-B20)/B20 -> 2.1216557 | P20: Revenue | Q20: 4242080604
A21: Variable Rents | B21: 257598 | C21: 331352 | D21: 273133 | E21: 312822 | F21: 334204 | G21: 249965 | H21: 278660 | I21: 289831 | J21: 271569 | K21: 166890 | L21: 203823 | M21: 125167 | N21: 152867 | O21: =(L21-B21)/B21 -> -0.2087555 | P21: Adj EBIT | Q21: =148587332+N23 -> 154641988
A22: Total Rents | B22: =B20+B21 -> 8254734 | C22: =C20+C21 -> 8206453 | D22: =D20+D21 -> 7912858 | E22: =E20+E21 -> 8593612 | F22: =F20+F21 -> 9181239 | G22: =G20+G21 -> 11076962 | H22: =H20+H21 -> 15100394 | I22: =I20+I21 -> 14171794 | ... N22: =N20+N21 -> 20607600 | O22: =(L22-B22)/B22 -> 2.0489326 | P22: Leasing % of Revenue | Q22: =N20/Q20 -> 0.0048218634
A23: Depreciation | B23: 5220102 | C23: 5363637 | D23: 5019873 | E23: 4936485 | F23: 5255719 | G23: 5132805 | H23: 5183712 | I23: 5278540 | J23: 5855749 | K23: 6318888 | L23: 7788344 | M23: 5022314 | N23: 6054656 | O23: =(L23-B23)/B23 -> 0.49199077 | P23: Leasing % of EBIT | Q23: =N26/Q21 -> 0.11478416
A24: Opex | B24: 1936250 | C24: 1982212 | D24: 1897737 | E24: 2124105 | F24: 2654976 | G24: 2967860 | H24: 3640110 | I24: 3327278 | J24: 3299391 | K24: 2968660 | L24: 3752407 | M24: 2691145 | N24: 2857149 | O24: =(L24-B24)/B24 -> 0.9379765
A25: EBIT | B25: 1098382 | C25: =(C20+C21)-C23-C24 -> 860604 | D25: =(D20+D21)-D23-D24 -> 995248 | E25: =(E20+E21)-E23-E24 -> 1533022 | F25: =(F20+F21)-F23-F24 -> 1270544 | G25: =(G20+G21)-G23-G24 -> 2976297 | H25: =(H20+H21)-H23-H24 -> 6276572 | I25: =(I20+I21)-I23-I24 -> 5565976 | J25: =(J20+J21)-J23-J24 -> 10262553 | ... N25: =(N20+N21)-N23-N24 -> 11695795 | O25: =(L25-B25)/B25 -> 11.406774
A26: FFO | B26: =B25+B23 -> 6318484 | C26: =C25+C23 -> 6224241 | D26: =D25+D23 -> 6015121 | E26: =E25+E23 -> 6469507 | F26: =F25+F23 -> 6526263 | G26: =G25+G23 -> 8109102 | H26: =H25+H23 -> 11460284 | I26: =I25+I23 -> 10844516 | ... N26: =N25+N23 -> 17750451 | O26: =(L26-B26)/B26 -> 2.3893765
A27: FFO Margin | B27: =B26/B20 -> 0.79009335 | C27: =C26/C20 -> 0.79036967 | D27: =D26/D20 -> 0.78734784 | E27: =E26/E20 -> 0.78126688 | F27: =F26/F20 -> 0.73767799 | G27: =G26/G20 -> 0.74897056 | H27: =H26/H20 -> 0.77320805 | I27: =I26/I20 -> 0.78119471 | ... N27: =N26/N20 -> 0.86779187 | O27: =(L27-B27)/B27 -> 0.085762435
A28: EBIT Margin Contribution | B28: =B26/B6 -> 0.38715959 | C28: =C26/C6 -> 0.37129419 | D28: =D26/D6 -> 0.33196265 | E28: =E26/E6 -> 0.3134985 | F28: =F26/F6 -> 0.30848694 | G28: =G26/G6 -> 0.43288242 | H28: =H26/H6 -> 0.52130796 | I28: =I26/I6 -> 0.49794504 | ... N28: =N26/N6 -> 0.71105174 | O28: =(N28-B28)/B28 -> 0.83658563
A29: Revenue GR | B29: -% | C29: =(C20-B20)/B20 -> -0.015259838 | D29: =(D20-C20)/C20 -> -0.029888633 | E29: =(E20-D20)/D20 -> 0.083912052 | F29: =(F20-E20)/E20 -> 0.068380553 | G29: =(G20-F20)/F20 -> 0.2237995 | H29: =(H20-G20)/G20 -> 0.36896076 | I29: =(I20-H20)/H20 -> -0.06340493 | J29: =(J20-I20)/I20 -> 0.37920869 | ... L29: =(L20-K20)/K20 -> 0.2425136 | M29: - | N29: =(N20-M20)/M20 -> 0.12414233 | O29: -
A30: FFO GR | B30: -% | C30: =(C26-B26)/B26 -> -0.014915445 | D30: =(D26-C26)/C26 -> -0.033597671 | E30: =(E26-D26)/D26 -> 0.075540625 | F30: =(F26-E26)/E26 -> 0.0087728478 | G30: =(G26-F26)/F26 -> 0.24253374 | H30: =(H26-G26)/G26 -> 0.41326179 | I30: =(I26-H26)/H26 -> -0.053730606 | J30: =(J26-I26)/I26 -> 0.48630902 | ... L30: =(L26-K26)/K26 -> 0.23861848 | M30: - | N30: =(N26-M26)/M26 -> 0.13567424 | O30: -
A31: FFO % of EBITDA | B31: =B26/'FCF Adj'!B57 -> 0.02922518 | C31: =C26/'FCF Adj'!C57 -> 0.028266308 | D31: =D26/'FCF Adj'!D57 -> 0.025073451 | E31: =E26/'FCF Adj'!E57 -> 0.027366781 | F31: =F26/'FCF Adj'!F57 -> 0.027490577 | G31: =G26/'FCF Adj'!G57 -> 0.034186771 | H31: =H26/'FCF Adj'!H57 -> 0.043959662 | I31: =I26/'FCF Adj'!I57 -> 0.027608238 | ... L31: =L26/'FCF Adj'!L57 -> 0.052813122

Sheet Ingles Leasing Valuation
A2: Ingles Leasing Valuation
A3: Year | B3: 2023 (Base) | C3: 2024 | D3: 2025 | E3: 2026 | F3: 2027 | G3: 2028 | H3: 2029 | I3: 2030 | J3: 2031 | K3: 2032 | L3: 2033
A4: Total Rents | B4: 24964305 | C4: =B4*1.12 -> 27960022 | D4: =C4*1.12 -> 31315224 | E4: =D4*1.12 -> 35073051 | F4: =E4*1.12 -> 39281817 | G4: =F4*1.12 -> 43995635 | H4: =G4*1.12 -> 49275112 | I4: =H4*1.12 -> 55188125 | J4: =I4*1.12 -> 61810700 | ... L4: =K4*1.12 -> 77535342
A5: Expenses | B5: 3752407 | C5: =C4-C7 -> 5312404.1 | D5: =D4-D7 -> 5949892.6 | E5: =E4-E7 -> 6663879.7 | F5: =F4-F7 -> 7463545.3 | G5: =G4-G7 -> 8359170.7 | H5: =H4-H7 -> 9362271.2 | I5: =I4-I7 -> 10485744 | J5: =J4-J7 -> 11744033 | ... L5: =L4-L7 -> 14731715
A6: Fed Rate | B6: 0.04 | C6: 0.04 | D6: 0.04 | E6: 0.04 | F6: 0.04 | G6: 0.04 | H6: 0.04 | I6: 0.04 | J6: 0.04 | K6: 0.04 | L6: 0.04
A7: FFO | C7: =C4*0.81 -> 22647618 | D7: =D4*0.81 -> 25365332 | E7: =E4*0.81 -> 28409171 | F7: =F4*0.81 -> 31818272 | G7: =G4*0.81 -> 35636465 | H7: =H4*0.81 -> 39912840 | I7: =I4*0.81 -> 44702381 | J7: =J4*0.81 -> 50066667 | ... L7: =L4*0.81 -> 62803627
A8: FFO Margin | B8: 0.81 | C8: 0.81 | D8: 0.81 | E8: 0.81 | F8: 0.81 | G8: 0.81 | H8: 0.81 | I8: 0.81 | J8: 0.81 | K8: 0.81 | L8: 0.81
A9: Intrinsic Value | B9: 16x EBITDA
A10: 5Y Value | B10: =G7*16 -> 5.7018343e+08
A11: 10Y Value | B11: =L7*16 -> 1004858032

Sheet Store GrowthOwnership
A1: Store Growth/Ownership
A2: Year | B2: 2005 | C2: 2006 | D2: 2007 | E2: 2008 | F2: 2009 | G2: 2010 | H2: 2011 | I2: 2012 | J2: 2013 | K2: 2014 | L2: 2015 | M2: 2016 | N2: 2017 | O2: 2018 | P2: 2019 | Q2: 2020 | R2: 2021 | S2: 2022 | T2: 2023 | U2: 2024
A3: North Carolina | B3: 63 | C3: 64 | D3: 65 | E3: 66 | F3: 68 | G3: 69 | H3: 69 | I3: 69 | J3: 70 | K3: 71 | L3: 71 | M3: 70 | N3: 70 | O3: 72 | P3: 73 | Q3: 73 | R3: 75 | S3: 75 | T3: 75
A4: South Carolina | B4: 35 | C4: 35 | D4: 36 | E4: 36 | F4: 36 | G4: 36 | H4: 36 | I4: 36 | J4: 36 | K4: 36 | L4: 36 | M4: 36 | N4: 36 | O4: 36 | P4: 36 | Q4: 35 | R4: 35 | S4: 35 | T4: 35
A5: Georgia | B5: 76 | C5: 75 | D5: 73 | E5: 72 | F5: 73 | G5: 73 | H5: 74 | I5: 74 | J5: 73 | K5: 71 | L5: 71 | M5: 71 | N5: 70 | O5: 69 | P5: 66 | Q5: 66 | R5: 65 | S5: 65 | T5: 65
A6: Tennessee | B6: 20 | C6: 20 | D6: 20 | E6: 20 | F6: 20 | G6: 21 | H6: 21 | I6: 21 | J6: 21 | K6: 21 | L6: 20 | M6: 21 | N6: 21 | O6: 21 | P6: 21 | Q6: 21 | R6: 21 | S6: 21 | T6: 21
A7: Virginia | B7: 2 | C7: 2 | D7: 2 | E7: 2 | F7: 2 | G7: 2 | H7: 2 | I7: 2 | J7: 2 | K7: 2 | L7: 2 | M7: 2 | N7: 1 | O7: 1 | P7: 1 | Q7: 1 | R7: 1 | S7: 1 | T7: 1
A8: Alabama | B8: 1 | C8: 1 | D8: 1 | E8: 1 | F8: 1 | G8: 1 | H8: 1 | I8: 1 | J8: 1 | K8: 1 | L8: 1 | M8: 1 | N8: 1 | O8: 1 | P8: 1 | Q8: 1 | R8: 1 | S8: 1 | T8: 1
A9: Total | B9: 197 | C9: =SUM(C3:C8) -> 197 | D9: =SUM(D3:D8) -> 197 | E9: =SUM(E3:E8) -> 197 | F9: =SUM(F3:F8) -> 200 | G9: =SUM(G3:G8) -> 202 | H9: =SUM(H3:H8) -> 203 | I9: =SUM(I3:I8) -> 203 | J9: =SUM(J3:J8) -> 203 | ... T9: =SUM(T3:T8) -> 198
A10: Supermarkets Owned | B10: - | C10: 80 | D10: 80 | E10: 88 | F10: 92 | G10: 93 | H10: 94 | I10: 95 | J10: 96 | K10: ND | L10: ND | M10: ND | N10: ND | O10: ND | P10: ND | Q10: ND | R10: ND | S10: ND | T10: ND
A11: % of Total | B11: - | C11: =C10/C9 -> 0.40609137 | D11: =D10/D9 -> 0.40609137 | E11: =E10/E9 -> 0.44670051 | F11: =F10/F9 -> 0.46 | G11: =G10/G9 -> 0.46039604 | H11: =H10/H9 -> 0.46305419 | I11: =I10/I9 -> 0.4679803 | J11: =J10/J9 -> 0.4729064 | K11: -% | L11: -% | M11: -% | N11: -% | O11: -% | P11: -% | Q11: -% | R11: -% | S11: -% | T11: -%
A12: Shopping Centers Owned | B12: - | C12: 74 | D12: 71 | E12: 73 | F12: 72 | G12: 70 | H12: 70 | I12: 69 | J12: 68 | K12: 69 | L12: 74 | M12: 74 | N12: 73 | O12: 77 | P12: 79 | Q12: 82 | R12: 83 | S12: 85 | T12: 93
A13: Ingles in Center | C13: 56 | D13: 55 | E13: 57 | F13: 56 | G13: 58 | H13: 58 | I13: 57 | J13: 57 | K13: ND | L13: ND | M13: ND | N13: ND | O13: ND | P13: ND | Q13: ND | R13: ND | S13: ND | T13: ND
A14: % of Total | B14: - | C14: =C13/C12 -> 0.75675676 | D14: =D13/D12 -> 0.77464789 | E14: =E13/E12 -> 0.78082192 | F14: =F13/F12 -> 0.77777778 | G14: =G13/G12 -> 0.82857143 | H14: =H13/H12 -> 0.82857143 | I14: =I13/I12 -> 0.82608696 | J14: =J13/J12 -> 0.83823529 | K14: -% | L14: -% | M14: -% | N14: -% | O14: -% | P14: -% | Q14: -% | R14: -% | S14: -% | T14: -%
A15: Ingles Locations Owned | B15: - | C15: =C10+C13 -> 136 | D15: =D10+D13 -> 135 | E15: =E10+E13 -> 145 | F15: =F10+F13 -> 148 | G15: =G10+G13 -> 151 | H15: =H10+H13 -> 152 | I15: =I10+I13 -> 152 | J15: =J10+J13 -> 153 | K15: 153 | L15: 155 | M15: 155 | N15: 156 | O15: 161 | P15: 162 | Q15: 161 | R15: 163 | S15: 164 | T15: 167
A16: Pharmacies | B16: 41 | C16: 46 | D16: 51 | E16: 62 | F16: 69 | G16: 70 | H16: 74 | I16: 81 | J16: 91 | K16: 96 | L16: 97 | M16: 99 | N16: 103 | O16: 108 | P16: 108 | Q16: 109 | R16: 111 | S16: 112 | T16: 114
